BEGIN:VCALENDAR
VERSION:2.0
PRODID:-//Angel Fire Resort - ECPv6.15.20//NONSGML v1.0//EN
CALSCALE:GREGORIAN
METHOD:PUBLISH
X-WR-CALNAME:Angel Fire Resort
X-ORIGINAL-URL:https://www.angelfireresort.com
X-WR-CALDESC:Events for Angel Fire Resort
REFRESH-INTERVAL;VALUE=DURATION:PT1H
X-Robots-Tag:noindex
X-PUBLISHED-TTL:PT1H
BEGIN:VTIMEZONE
TZID:America/Denver
BEGIN:DAYLIGHT
TZOFFSETFROM:-0700
TZOFFSETTO:-0600
TZNAME:MDT
DTSTART:20250309T090000
END:DAYLIGHT
BEGIN:STANDARD
TZOFFSETFROM:-0600
TZOFFSETTO:-0700
TZNAME:MST
DTSTART:20251102T080000
END:STANDARD
BEGIN:DAYLIGHT
TZOFFSETFROM:-0700
TZOFFSETTO:-0600
TZNAME:MDT
DTSTART:20260308T090000
END:DAYLIGHT
BEGIN:STANDARD
TZOFFSETFROM:-0600
TZOFFSETTO:-0700
TZNAME:MST
DTSTART:20261101T080000
END:STANDARD
BEGIN:DAYLIGHT
TZOFFSETFROM:-0700
TZOFFSETTO:-0600
TZNAME:MDT
DTSTART:20270314T090000
END:DAYLIGHT
BEGIN:STANDARD
TZOFFSETFROM:-0600
TZOFFSETTO:-0700
TZNAME:MST
DTSTART:20271107T080000
END:STANDARD
END:VTIMEZONE
BEGIN:VEVENT
DTSTART;TZID=America/Denver:20260101T160000
DTEND;TZID=America/Denver:20260101T180000
DTSTAMP:20260420T044818
CREATED:20251208T160320Z
LAST-MODIFIED:20251208T160320Z
UID:10031080-1767283200-1767290400@www.angelfireresort.com
SUMMARY:Live Music @ Elements | Ry Taylor
DESCRIPTION:After the slopes\, enjoy delicious appetizers and a signature cocktail at Elements Lounge with the toe-tappin’ local music of Ry Taylor. Thursdays all Winter.
URL:https://www.angelfireresort.com/event/live-music-elements-ry-taylor/2026-01-01/
LOCATION:Elements Lounge\, 100 Country Club Dr\, Angel Fire\, NM\, 87710\, United States
CATEGORIES:Music,Winter Events
ATTACH;FMTTYPE=image/png:https://www.angelfireresort.com/wp-content/uploads/2024/12/AFR_LiveMusic-Ry-Taylor_2.png
GEO:36.3737714;-105.2886525
X-APPLE-STRUCTURED-LOCATION;VALUE=URI;X-ADDRESS=Elements Lounge 100 Country Club Dr Angel Fire NM 87710 United States;X-APPLE-RADIUS=500;X-TITLE=100 Country Club Dr:geo:-105.2886525,36.3737714
END:VEVENT
BEGIN:VEVENT
DTSTART;TZID=America/Denver:20260102T160000
DTEND;TZID=America/Denver:20260102T180000
DTSTAMP:20260420T044818
CREATED:20251208T161625Z
LAST-MODIFIED:20251208T161656Z
UID:10031110-1767369600-1767376800@www.angelfireresort.com
SUMMARY:Live Music @ Village Haus | Ry Taylor
DESCRIPTION:After the slopes\, enjoy an Irish Coffee or cold beer at the Village Haus with the local music of Ry Taylor. Fridays all Winter.
URL:https://www.angelfireresort.com/event/live-music-village-haus-ry-taylor/2026-01-02/
LOCATION:Village Haus\, 10 Miller Lane\, Angel Fire\, 87710
CATEGORIES:Music,Winter Events
ATTACH;FMTTYPE=image/jpeg:https://www.angelfireresort.com/wp-content/uploads/2015/07/Ry-Taylor.jpg
GEO:36.3874183;-105.2734077
X-APPLE-STRUCTURED-LOCATION;VALUE=URI;X-ADDRESS=Village Haus 10 Miller Lane Angel Fire 87710;X-APPLE-RADIUS=500;X-TITLE=10 Miller Lane:geo:-105.2734077,36.3874183
END:VEVENT
BEGIN:VEVENT
DTSTART;TZID=America/Denver:20260103T160000
DTEND;TZID=America/Denver:20260103T180000
DTSTAMP:20260420T044818
CREATED:20251208T160943Z
LAST-MODIFIED:20251208T161203Z
UID:10031095-1767456000-1767463200@www.angelfireresort.com
SUMMARY:Live Music @ Village Haus | Jeremiah Glauser
DESCRIPTION:After the slopes\, enjoy an Irish Coffee or cold beer at the Village Haus with the local music of Jeremiah Glauser. Saturdays all Winter.
URL:https://www.angelfireresort.com/event/live-music-village-haus-jeremiah-glauser/2026-01-03/
LOCATION:Village Haus\, 10 Miller Lane\, Angel Fire\, 87710
CATEGORIES:Music,Winter Events
ATTACH;FMTTYPE=image/jpeg:https://www.angelfireresort.com/wp-content/uploads/2025/12/JeremiahGlauser_01-1.jpg
GEO:36.3874183;-105.2734077
X-APPLE-STRUCTURED-LOCATION;VALUE=URI;X-ADDRESS=Village Haus 10 Miller Lane Angel Fire 87710;X-APPLE-RADIUS=500;X-TITLE=10 Miller Lane:geo:-105.2734077,36.3874183
END:VEVENT
BEGIN:VEVENT
DTSTART;TZID=America/Denver:20260104T160000
DTEND;TZID=America/Denver:20260104T180000
DTSTAMP:20260420T044818
CREATED:20251205T163216Z
LAST-MODIFIED:20251205T165000Z
UID:10031063-1767542400-1767549600@www.angelfireresort.com
SUMMARY:Live Music @ Elements | Jeremiah Glauser
DESCRIPTION:After the slopes\, enjoy delicious appetizers and a signature cocktail at Elements Lounge in the Angel Fire Country Club with the smooth country sounds of Jeremiah Glauser every Sunday from 4PM-6PM all Winter.
URL:https://www.angelfireresort.com/event/live-music-elements-jeremiah-glauser/2026-01-04/
LOCATION:Elements Lounge\, 100 Country Club Dr\, Angel Fire\, NM\, 87710\, United States
CATEGORIES:Music,Winter Events
ATTACH;FMTTYPE=image/jpeg:https://www.angelfireresort.com/wp-content/uploads/2025/12/JeremiahGlauser_01-1.jpg
GEO:36.3737714;-105.2886525
X-APPLE-STRUCTURED-LOCATION;VALUE=URI;X-ADDRESS=Elements Lounge 100 Country Club Dr Angel Fire NM 87710 United States;X-APPLE-RADIUS=500;X-TITLE=100 Country Club Dr:geo:-105.2886525,36.3737714
END:VEVENT
BEGIN:VEVENT
DTSTART;TZID=America/Denver:20260108T160000
DTEND;TZID=America/Denver:20260108T180000
DTSTAMP:20260420T044818
CREATED:20251208T160320Z
LAST-MODIFIED:20251208T160320Z
UID:10031081-1767888000-1767895200@www.angelfireresort.com
SUMMARY:Live Music @ Elements | Ry Taylor
DESCRIPTION:After the slopes\, enjoy delicious appetizers and a signature cocktail at Elements Lounge with the toe-tappin’ local music of Ry Taylor. Thursdays all Winter.
URL:https://www.angelfireresort.com/event/live-music-elements-ry-taylor/2026-01-08/
LOCATION:Elements Lounge\, 100 Country Club Dr\, Angel Fire\, NM\, 87710\, United States
CATEGORIES:Music,Winter Events
ATTACH;FMTTYPE=image/png:https://www.angelfireresort.com/wp-content/uploads/2024/12/AFR_LiveMusic-Ry-Taylor_2.png
GEO:36.3737714;-105.2886525
X-APPLE-STRUCTURED-LOCATION;VALUE=URI;X-ADDRESS=Elements Lounge 100 Country Club Dr Angel Fire NM 87710 United States;X-APPLE-RADIUS=500;X-TITLE=100 Country Club Dr:geo:-105.2886525,36.3737714
END:VEVENT
BEGIN:VEVENT
DTSTART;TZID=America/Denver:20260109T160000
DTEND;TZID=America/Denver:20260109T180000
DTSTAMP:20260420T044818
CREATED:20251208T161625Z
LAST-MODIFIED:20251208T161656Z
UID:10031111-1767974400-1767981600@www.angelfireresort.com
SUMMARY:Live Music @ Village Haus | Ry Taylor
DESCRIPTION:After the slopes\, enjoy an Irish Coffee or cold beer at the Village Haus with the local music of Ry Taylor. Fridays all Winter.
URL:https://www.angelfireresort.com/event/live-music-village-haus-ry-taylor/2026-01-09/
LOCATION:Village Haus\, 10 Miller Lane\, Angel Fire\, 87710
CATEGORIES:Music,Winter Events
ATTACH;FMTTYPE=image/jpeg:https://www.angelfireresort.com/wp-content/uploads/2015/07/Ry-Taylor.jpg
GEO:36.3874183;-105.2734077
X-APPLE-STRUCTURED-LOCATION;VALUE=URI;X-ADDRESS=Village Haus 10 Miller Lane Angel Fire 87710;X-APPLE-RADIUS=500;X-TITLE=10 Miller Lane:geo:-105.2734077,36.3874183
END:VEVENT
BEGIN:VEVENT
DTSTART;TZID=America/Denver:20260110T160000
DTEND;TZID=America/Denver:20260110T180000
DTSTAMP:20260420T044818
CREATED:20251208T160943Z
LAST-MODIFIED:20251208T161203Z
UID:10031096-1768060800-1768068000@www.angelfireresort.com
SUMMARY:Live Music @ Village Haus | Jeremiah Glauser
DESCRIPTION:After the slopes\, enjoy an Irish Coffee or cold beer at the Village Haus with the local music of Jeremiah Glauser. Saturdays all Winter.
URL:https://www.angelfireresort.com/event/live-music-village-haus-jeremiah-glauser/2026-01-10/
LOCATION:Village Haus\, 10 Miller Lane\, Angel Fire\, 87710
CATEGORIES:Music,Winter Events
ATTACH;FMTTYPE=image/jpeg:https://www.angelfireresort.com/wp-content/uploads/2025/12/JeremiahGlauser_01-1.jpg
GEO:36.3874183;-105.2734077
X-APPLE-STRUCTURED-LOCATION;VALUE=URI;X-ADDRESS=Village Haus 10 Miller Lane Angel Fire 87710;X-APPLE-RADIUS=500;X-TITLE=10 Miller Lane:geo:-105.2734077,36.3874183
END:VEVENT
BEGIN:VEVENT
DTSTART;TZID=America/Denver:20260111T160000
DTEND;TZID=America/Denver:20260111T180000
DTSTAMP:20260420T044818
CREATED:20251205T163216Z
LAST-MODIFIED:20251205T165000Z
UID:10031064-1768147200-1768154400@www.angelfireresort.com
SUMMARY:Live Music @ Elements | Jeremiah Glauser
DESCRIPTION:After the slopes\, enjoy delicious appetizers and a signature cocktail at Elements Lounge in the Angel Fire Country Club with the smooth country sounds of Jeremiah Glauser every Sunday from 4PM-6PM all Winter.
URL:https://www.angelfireresort.com/event/live-music-elements-jeremiah-glauser/2026-01-11/
LOCATION:Elements Lounge\, 100 Country Club Dr\, Angel Fire\, NM\, 87710\, United States
CATEGORIES:Music,Winter Events
ATTACH;FMTTYPE=image/jpeg:https://www.angelfireresort.com/wp-content/uploads/2025/12/JeremiahGlauser_01-1.jpg
GEO:36.3737714;-105.2886525
X-APPLE-STRUCTURED-LOCATION;VALUE=URI;X-ADDRESS=Elements Lounge 100 Country Club Dr Angel Fire NM 87710 United States;X-APPLE-RADIUS=500;X-TITLE=100 Country Club Dr:geo:-105.2886525,36.3737714
END:VEVENT
BEGIN:VEVENT
DTSTART;TZID=America/Denver:20260115T160000
DTEND;TZID=America/Denver:20260115T180000
DTSTAMP:20260420T044818
CREATED:20251208T160320Z
LAST-MODIFIED:20251208T160320Z
UID:10031082-1768492800-1768500000@www.angelfireresort.com
SUMMARY:Live Music @ Elements | Ry Taylor
DESCRIPTION:After the slopes\, enjoy delicious appetizers and a signature cocktail at Elements Lounge with the toe-tappin’ local music of Ry Taylor. Thursdays all Winter.
URL:https://www.angelfireresort.com/event/live-music-elements-ry-taylor/2026-01-15/
LOCATION:Elements Lounge\, 100 Country Club Dr\, Angel Fire\, NM\, 87710\, United States
CATEGORIES:Music,Winter Events
ATTACH;FMTTYPE=image/png:https://www.angelfireresort.com/wp-content/uploads/2024/12/AFR_LiveMusic-Ry-Taylor_2.png
GEO:36.3737714;-105.2886525
X-APPLE-STRUCTURED-LOCATION;VALUE=URI;X-ADDRESS=Elements Lounge 100 Country Club Dr Angel Fire NM 87710 United States;X-APPLE-RADIUS=500;X-TITLE=100 Country Club Dr:geo:-105.2886525,36.3737714
END:VEVENT
BEGIN:VEVENT
DTSTART;TZID=America/Denver:20260116T160000
DTEND;TZID=America/Denver:20260116T180000
DTSTAMP:20260420T044818
CREATED:20251208T161625Z
LAST-MODIFIED:20251208T161656Z
UID:10031112-1768579200-1768586400@www.angelfireresort.com
SUMMARY:Live Music @ Village Haus | Ry Taylor
DESCRIPTION:After the slopes\, enjoy an Irish Coffee or cold beer at the Village Haus with the local music of Ry Taylor. Fridays all Winter.
URL:https://www.angelfireresort.com/event/live-music-village-haus-ry-taylor/2026-01-16/
LOCATION:Village Haus\, 10 Miller Lane\, Angel Fire\, 87710
CATEGORIES:Music,Winter Events
ATTACH;FMTTYPE=image/jpeg:https://www.angelfireresort.com/wp-content/uploads/2015/07/Ry-Taylor.jpg
GEO:36.3874183;-105.2734077
X-APPLE-STRUCTURED-LOCATION;VALUE=URI;X-ADDRESS=Village Haus 10 Miller Lane Angel Fire 87710;X-APPLE-RADIUS=500;X-TITLE=10 Miller Lane:geo:-105.2734077,36.3874183
END:VEVENT
BEGIN:VEVENT
DTSTART;TZID=America/Denver:20260117T160000
DTEND;TZID=America/Denver:20260117T180000
DTSTAMP:20260420T044818
CREATED:20251208T160943Z
LAST-MODIFIED:20251208T161203Z
UID:10031097-1768665600-1768672800@www.angelfireresort.com
SUMMARY:Live Music @ Village Haus | Jeremiah Glauser
DESCRIPTION:After the slopes\, enjoy an Irish Coffee or cold beer at the Village Haus with the local music of Jeremiah Glauser. Saturdays all Winter.
URL:https://www.angelfireresort.com/event/live-music-village-haus-jeremiah-glauser/2026-01-17/
LOCATION:Village Haus\, 10 Miller Lane\, Angel Fire\, 87710
CATEGORIES:Music,Winter Events
ATTACH;FMTTYPE=image/jpeg:https://www.angelfireresort.com/wp-content/uploads/2025/12/JeremiahGlauser_01-1.jpg
GEO:36.3874183;-105.2734077
X-APPLE-STRUCTURED-LOCATION;VALUE=URI;X-ADDRESS=Village Haus 10 Miller Lane Angel Fire 87710;X-APPLE-RADIUS=500;X-TITLE=10 Miller Lane:geo:-105.2734077,36.3874183
END:VEVENT
BEGIN:VEVENT
DTSTART;TZID=America/Denver:20260118T160000
DTEND;TZID=America/Denver:20260118T180000
DTSTAMP:20260420T044818
CREATED:20251205T163216Z
LAST-MODIFIED:20251205T165000Z
UID:10031065-1768752000-1768759200@www.angelfireresort.com
SUMMARY:Live Music @ Elements | Jeremiah Glauser
DESCRIPTION:After the slopes\, enjoy delicious appetizers and a signature cocktail at Elements Lounge in the Angel Fire Country Club with the smooth country sounds of Jeremiah Glauser every Sunday from 4PM-6PM all Winter.
URL:https://www.angelfireresort.com/event/live-music-elements-jeremiah-glauser/2026-01-18/
LOCATION:Elements Lounge\, 100 Country Club Dr\, Angel Fire\, NM\, 87710\, United States
CATEGORIES:Music,Winter Events
ATTACH;FMTTYPE=image/jpeg:https://www.angelfireresort.com/wp-content/uploads/2025/12/JeremiahGlauser_01-1.jpg
GEO:36.3737714;-105.2886525
X-APPLE-STRUCTURED-LOCATION;VALUE=URI;X-ADDRESS=Elements Lounge 100 Country Club Dr Angel Fire NM 87710 United States;X-APPLE-RADIUS=500;X-TITLE=100 Country Club Dr:geo:-105.2886525,36.3737714
END:VEVENT
BEGIN:VEVENT
DTSTART;TZID=America/Denver:20260122T160000
DTEND;TZID=America/Denver:20260122T180000
DTSTAMP:20260420T044818
CREATED:20251208T160320Z
LAST-MODIFIED:20251208T160320Z
UID:10031083-1769097600-1769104800@www.angelfireresort.com
SUMMARY:Live Music @ Elements | Ry Taylor
DESCRIPTION:After the slopes\, enjoy delicious appetizers and a signature cocktail at Elements Lounge with the toe-tappin’ local music of Ry Taylor. Thursdays all Winter.
URL:https://www.angelfireresort.com/event/live-music-elements-ry-taylor/2026-01-22/
LOCATION:Elements Lounge\, 100 Country Club Dr\, Angel Fire\, NM\, 87710\, United States
CATEGORIES:Music,Winter Events
ATTACH;FMTTYPE=image/png:https://www.angelfireresort.com/wp-content/uploads/2024/12/AFR_LiveMusic-Ry-Taylor_2.png
GEO:36.3737714;-105.2886525
X-APPLE-STRUCTURED-LOCATION;VALUE=URI;X-ADDRESS=Elements Lounge 100 Country Club Dr Angel Fire NM 87710 United States;X-APPLE-RADIUS=500;X-TITLE=100 Country Club Dr:geo:-105.2886525,36.3737714
END:VEVENT
BEGIN:VEVENT
DTSTART;TZID=America/Denver:20260123T160000
DTEND;TZID=America/Denver:20260123T180000
DTSTAMP:20260420T044818
CREATED:20260123T175936Z
LAST-MODIFIED:20260123T175937Z
UID:10031113-1769184000-1769191200@www.angelfireresort.com
SUMMARY:Live Music @ Village Haus | Ry Taylor
DESCRIPTION:After the slopes\, enjoy an Irish Coffee or cold beer at the Village Haus with the local music of Ry Taylor. Fridays all Winter.
URL:https://www.angelfireresort.com/event/live-music-village-haus-ry-taylor-2/
LOCATION:Village Haus\, 10 Miller Lane\, Angel Fire\, 87710
CATEGORIES:Music,Winter Events
ATTACH;FMTTYPE=image/jpeg:https://www.angelfireresort.com/wp-content/uploads/2015/07/Ry-Taylor.jpg
GEO:36.3874183;-105.2734077
X-APPLE-STRUCTURED-LOCATION;VALUE=URI;X-ADDRESS=Village Haus 10 Miller Lane Angel Fire 87710;X-APPLE-RADIUS=500;X-TITLE=10 Miller Lane:geo:-105.2734077,36.3874183
END:VEVENT
BEGIN:VEVENT
DTSTART;TZID=America/Denver:20260123T170000
DTEND;TZID=America/Denver:20260123T190000
DTSTAMP:20260420T044818
CREATED:20251007T175128Z
LAST-MODIFIED:20260123T180311Z
UID:10030947-1769187600-1769194800@www.angelfireresort.com
SUMMARY:Member Weekend Kickoff Concert
DESCRIPTION:Please note: This event has a venue change! To create a true après-ski concert and dance\, we’re moving the Member Weekend Kickoff Concert to Village Haus. \n  \nKick off Member Weekend on Friday\, January 23\, 2026\, with live music from the Staudt Brothers of South Texas\, playing from 5-7 PM and bringing their signature country and Southern rock sound. Fresh off the slopes? Perfect. Ski boots to dance moves encouraged as we launch Member Weekend in style! \n  \nWe’ll also have a sign-up table on site for the Member Races happening the following day (Terrain dependent; races may be canceled if conditions aren’t suitable).
URL:https://www.angelfireresort.com/event/member-weekend-kickoff-concert/
LOCATION:Village Haus\, 10 Miller Lane\, Angel Fire\, 87710
CATEGORIES:Membership,Music,Winter Events
ATTACH;FMTTYPE=image/jpeg:https://www.angelfireresort.com/wp-content/uploads/2025/10/Memeber-Weekend-Change.jpeg
ORGANIZER;CN="Angel Fire Resort Membership":MAILTO:membership@angelfireresort.com
GEO:36.3874183;-105.2734077
X-APPLE-STRUCTURED-LOCATION;VALUE=URI;X-ADDRESS=Village Haus 10 Miller Lane Angel Fire 87710;X-APPLE-RADIUS=500;X-TITLE=10 Miller Lane:geo:-105.2734077,36.3874183
END:VEVENT
BEGIN:VEVENT
DTSTART;TZID=America/Denver:20260124T160000
DTEND;TZID=America/Denver:20260124T180000
DTSTAMP:20260420T044818
CREATED:20251208T160943Z
LAST-MODIFIED:20251208T161203Z
UID:10031098-1769270400-1769277600@www.angelfireresort.com
SUMMARY:Live Music @ Village Haus | Jeremiah Glauser
DESCRIPTION:After the slopes\, enjoy an Irish Coffee or cold beer at the Village Haus with the local music of Jeremiah Glauser. Saturdays all Winter.
URL:https://www.angelfireresort.com/event/live-music-village-haus-jeremiah-glauser/2026-01-24/
LOCATION:Village Haus\, 10 Miller Lane\, Angel Fire\, 87710
CATEGORIES:Music,Winter Events
ATTACH;FMTTYPE=image/jpeg:https://www.angelfireresort.com/wp-content/uploads/2025/12/JeremiahGlauser_01-1.jpg
GEO:36.3874183;-105.2734077
X-APPLE-STRUCTURED-LOCATION;VALUE=URI;X-ADDRESS=Village Haus 10 Miller Lane Angel Fire 87710;X-APPLE-RADIUS=500;X-TITLE=10 Miller Lane:geo:-105.2734077,36.3874183
END:VEVENT
BEGIN:VEVENT
DTSTART;TZID=America/Denver:20260125T160000
DTEND;TZID=America/Denver:20260125T180000
DTSTAMP:20260420T044818
CREATED:20251205T163216Z
LAST-MODIFIED:20251205T165000Z
UID:10031066-1769356800-1769364000@www.angelfireresort.com
SUMMARY:Live Music @ Elements | Jeremiah Glauser
DESCRIPTION:After the slopes\, enjoy delicious appetizers and a signature cocktail at Elements Lounge in the Angel Fire Country Club with the smooth country sounds of Jeremiah Glauser every Sunday from 4PM-6PM all Winter.
URL:https://www.angelfireresort.com/event/live-music-elements-jeremiah-glauser/2026-01-25/
LOCATION:Elements Lounge\, 100 Country Club Dr\, Angel Fire\, NM\, 87710\, United States
CATEGORIES:Music,Winter Events
ATTACH;FMTTYPE=image/jpeg:https://www.angelfireresort.com/wp-content/uploads/2025/12/JeremiahGlauser_01-1.jpg
GEO:36.3737714;-105.2886525
X-APPLE-STRUCTURED-LOCATION;VALUE=URI;X-ADDRESS=Elements Lounge 100 Country Club Dr Angel Fire NM 87710 United States;X-APPLE-RADIUS=500;X-TITLE=100 Country Club Dr:geo:-105.2886525,36.3737714
END:VEVENT
BEGIN:VEVENT
DTSTART;TZID=America/Denver:20260129T160000
DTEND;TZID=America/Denver:20260129T180000
DTSTAMP:20260420T044818
CREATED:20251208T160320Z
LAST-MODIFIED:20251208T160320Z
UID:10031084-1769702400-1769709600@www.angelfireresort.com
SUMMARY:Live Music @ Elements | Ry Taylor
DESCRIPTION:After the slopes\, enjoy delicious appetizers and a signature cocktail at Elements Lounge with the toe-tappin’ local music of Ry Taylor. Thursdays all Winter.
URL:https://www.angelfireresort.com/event/live-music-elements-ry-taylor/2026-01-29/
LOCATION:Elements Lounge\, 100 Country Club Dr\, Angel Fire\, NM\, 87710\, United States
CATEGORIES:Music,Winter Events
ATTACH;FMTTYPE=image/png:https://www.angelfireresort.com/wp-content/uploads/2024/12/AFR_LiveMusic-Ry-Taylor_2.png
GEO:36.3737714;-105.2886525
X-APPLE-STRUCTURED-LOCATION;VALUE=URI;X-ADDRESS=Elements Lounge 100 Country Club Dr Angel Fire NM 87710 United States;X-APPLE-RADIUS=500;X-TITLE=100 Country Club Dr:geo:-105.2886525,36.3737714
END:VEVENT
BEGIN:VEVENT
DTSTART;TZID=America/Denver:20260130T160000
DTEND;TZID=America/Denver:20260130T180000
DTSTAMP:20260420T044818
CREATED:20251208T161625Z
LAST-MODIFIED:20251208T161656Z
UID:10031114-1769788800-1769796000@www.angelfireresort.com
SUMMARY:Live Music @ Village Haus | Ry Taylor
DESCRIPTION:After the slopes\, enjoy an Irish Coffee or cold beer at the Village Haus with the local music of Ry Taylor. Fridays all Winter.
URL:https://www.angelfireresort.com/event/live-music-village-haus-ry-taylor/2026-01-30/
LOCATION:Village Haus\, 10 Miller Lane\, Angel Fire\, 87710
CATEGORIES:Music,Winter Events
ATTACH;FMTTYPE=image/jpeg:https://www.angelfireresort.com/wp-content/uploads/2015/07/Ry-Taylor.jpg
GEO:36.3874183;-105.2734077
X-APPLE-STRUCTURED-LOCATION;VALUE=URI;X-ADDRESS=Village Haus 10 Miller Lane Angel Fire 87710;X-APPLE-RADIUS=500;X-TITLE=10 Miller Lane:geo:-105.2734077,36.3874183
END:VEVENT
BEGIN:VEVENT
DTSTART;TZID=America/Denver:20260131T160000
DTEND;TZID=America/Denver:20260131T180000
DTSTAMP:20260420T044818
CREATED:20251208T160943Z
LAST-MODIFIED:20251208T161203Z
UID:10031099-1769875200-1769882400@www.angelfireresort.com
SUMMARY:Live Music @ Village Haus | Jeremiah Glauser
DESCRIPTION:After the slopes\, enjoy an Irish Coffee or cold beer at the Village Haus with the local music of Jeremiah Glauser. Saturdays all Winter.
URL:https://www.angelfireresort.com/event/live-music-village-haus-jeremiah-glauser/2026-01-31/
LOCATION:Village Haus\, 10 Miller Lane\, Angel Fire\, 87710
CATEGORIES:Music,Winter Events
ATTACH;FMTTYPE=image/jpeg:https://www.angelfireresort.com/wp-content/uploads/2025/12/JeremiahGlauser_01-1.jpg
GEO:36.3874183;-105.2734077
X-APPLE-STRUCTURED-LOCATION;VALUE=URI;X-ADDRESS=Village Haus 10 Miller Lane Angel Fire 87710;X-APPLE-RADIUS=500;X-TITLE=10 Miller Lane:geo:-105.2734077,36.3874183
END:VEVENT
END:VCALENDAR