BEGIN:VCALENDAR
VERSION:2.0
PRODID:-//Angel Fire Resort - ECPv6.15.20//NONSGML v1.0//EN
CALSCALE:GREGORIAN
METHOD:PUBLISH
X-ORIGINAL-URL:https://www.angelfireresort.com
X-WR-CALDESC:Events for Angel Fire Resort
REFRESH-INTERVAL;VALUE=DURATION:PT1H
X-Robots-Tag:noindex
X-PUBLISHED-TTL:PT1H
BEGIN:VTIMEZONE
TZID:America/Denver
BEGIN:DAYLIGHT
TZOFFSETFROM:-0700
TZOFFSETTO:-0600
TZNAME:MDT
DTSTART:20250309T090000
END:DAYLIGHT
BEGIN:STANDARD
TZOFFSETFROM:-0600
TZOFFSETTO:-0700
TZNAME:MST
DTSTART:20251102T080000
END:STANDARD
BEGIN:DAYLIGHT
TZOFFSETFROM:-0700
TZOFFSETTO:-0600
TZNAME:MDT
DTSTART:20260308T090000
END:DAYLIGHT
BEGIN:STANDARD
TZOFFSETFROM:-0600
TZOFFSETTO:-0700
TZNAME:MST
DTSTART:20261101T080000
END:STANDARD
BEGIN:DAYLIGHT
TZOFFSETFROM:-0700
TZOFFSETTO:-0600
TZNAME:MDT
DTSTART:20270314T090000
END:DAYLIGHT
BEGIN:STANDARD
TZOFFSETFROM:-0600
TZOFFSETTO:-0700
TZNAME:MST
DTSTART:20271107T080000
END:STANDARD
END:VTIMEZONE
BEGIN:VEVENT
DTSTART;TZID=America/Denver:20260620T090000
DTEND;TZID=America/Denver:20260620T160000
DTSTAMP:20260422T060236
CREATED:20260407T210436Z
LAST-MODIFIED:20260407T210436Z
UID:10031517-1781946000-1781971200@www.angelfireresort.com
SUMMARY:Mimosas in the Mountains
DESCRIPTION:Following the breathtaking morning Mass Ascension of over 40 Hot-Air Balloons at Balloons Over Angel Fire\, come downtown to join us for a delightful street fair! Enjoy a variety of offerings\, including food\, entertainment\, music\, and mimosas. \nExplore arts and crafts booths\, groove to live music on the main stage\, and let the kids have a blast at the designated Kids Zone at Shuter Library.  Indulge in delicious treats from food vendors\, and sip on refreshing mimosas while soaking in the festive atmosphere. There’s something for everyone to enjoy! \n  \nWhen:  Saturday 6/20  | 9 AM – 4 PM \nWhat:   Food\, Entertainment\, Music & Mimosas! \nWhere: TBD \n  \nFor those interested in participating\, applications are now open for food carts\, vendors\, and musicians/entertainers\, with various sponsorship opportunities also available. To learn more\, please contact us at bprather@angelfirenm.gov
URL:https://www.angelfireresort.com/event/mimosas-in-the-mountains/
CATEGORIES:Music,Summer Events
ATTACH;FMTTYPE=image/jpeg:https://www.angelfireresort.com/wp-content/uploads/2026/04/AngelFireSummer2024-391_Mimosas-on-Main-1536x968-1.jpg
ORGANIZER;CN="Village of Angel Fire":MAILTO:bprather@angelfirenm.gov
END:VEVENT
BEGIN:VEVENT
DTSTART;TZID=America/Denver:20260621T090000
DTEND;TZID=America/Denver:20260621T130000
DTSTAMP:20260422T060236
CREATED:20260305T181818Z
LAST-MODIFIED:20260305T181818Z
UID:10031223-1782032400-1782046800@www.angelfireresort.com
SUMMARY:Angel Fire Farmer's Market
DESCRIPTION:Enjoy shopping al fresco at the Angel Fire Farmers’ Market. \nJoin us at the Mountain View Event Center every Sunday this summer\, from June 21 through September 13\, from 9 AM – 1 PM. The Farmers’ Market will offer fresh produce\, art\, and entertainment for the whole family to enjoy. \n  \nIf you are interested in becoming a vendor\, please email bprather@angelfirenm.com
URL:https://www.angelfireresort.com/event/angel-fire-farmers-market-2/2026-06-21/
LOCATION:Mountain View Events Center\, 380 Fuego st\, Angel Fire\, New Mexico\, 87710
CATEGORIES:Music,Summer Events
ATTACH;FMTTYPE=image/png:https://www.angelfireresort.com/wp-content/uploads/2025/05/ANgel-Fire-Farmers-MArket.png
ORGANIZER;CN="Village of Angel Fire":MAILTO:bprather@angelfirenm.gov
GEO:36.3920987;-105.2859813
X-APPLE-STRUCTURED-LOCATION;VALUE=URI;X-ADDRESS=Mountain View Events Center 380 Fuego st Angel Fire New Mexico 87710;X-APPLE-RADIUS=500;X-TITLE=380 Fuego st:geo:-105.2859813,36.3920987
END:VEVENT
BEGIN:VEVENT
DTSTART;TZID=America/Denver:20260627T173000
DTEND;TZID=America/Denver:20260627T193000
DTSTAMP:20260422T060236
CREATED:20260403T201104Z
LAST-MODIFIED:20260403T201104Z
UID:10031489-1782581400-1782588600@www.angelfireresort.com
SUMMARY:Angel Fire Village Summer Music Series | JJ & the Hooligans
DESCRIPTION:Bring a lawn chair\, blankets\, friends\, and dancing shoes! The Cool Summer Nights Concert Series is back for 2026 and will offer free live music from 5 PM—8 PM every Saturday night in the Mountain View Event Center. \n  \nSaturday\, June 27\, 2026\, 5:30-7:30pm \nJJ & the Hooligans \nRock/Americana/Pop \nJJ & the Hooligans is guaranteed to bring the joy with their classic dance band tunes and reimagined surprises that make their shows fun\, high-energy\, and irresistibly danceable. \n  \nFacebook: https://www.facebook.com/JJandthehooligans/ \nInstagram: https://www.instagram.com/sfhooligans/ \n 
URL:https://www.angelfireresort.com/event/angel-fire-village-summer-music-series-jj-the-hooligans/
LOCATION:Mountain View Events Center\, 380 Fuego st\, Angel Fire\, New Mexico\, 87710
CATEGORIES:Music,Summer Events
ATTACH;FMTTYPE=image/png:https://www.angelfireresort.com/wp-content/uploads/2026/04/JJ-the-Hooligans.png
ORGANIZER;CN="Village of Angel Fire":MAILTO:bprather@angelfirenm.gov
GEO:36.3920987;-105.2859813
X-APPLE-STRUCTURED-LOCATION;VALUE=URI;X-ADDRESS=Mountain View Events Center 380 Fuego st Angel Fire New Mexico 87710;X-APPLE-RADIUS=500;X-TITLE=380 Fuego st:geo:-105.2859813,36.3920987
END:VEVENT
BEGIN:VEVENT
DTSTART;TZID=America/Denver:20260628T090000
DTEND;TZID=America/Denver:20260628T130000
DTSTAMP:20260422T060236
CREATED:20260305T181818Z
LAST-MODIFIED:20260305T181818Z
UID:10031224-1782637200-1782651600@www.angelfireresort.com
SUMMARY:Angel Fire Farmer's Market
DESCRIPTION:Enjoy shopping al fresco at the Angel Fire Farmers’ Market. \nJoin us at the Mountain View Event Center every Sunday this summer\, from June 21 through September 13\, from 9 AM – 1 PM. The Farmers’ Market will offer fresh produce\, art\, and entertainment for the whole family to enjoy. \n  \nIf you are interested in becoming a vendor\, please email bprather@angelfirenm.com
URL:https://www.angelfireresort.com/event/angel-fire-farmers-market-2/2026-06-28/
LOCATION:Mountain View Events Center\, 380 Fuego st\, Angel Fire\, New Mexico\, 87710
CATEGORIES:Music,Summer Events
ATTACH;FMTTYPE=image/png:https://www.angelfireresort.com/wp-content/uploads/2025/05/ANgel-Fire-Farmers-MArket.png
ORGANIZER;CN="Village of Angel Fire":MAILTO:bprather@angelfirenm.gov
GEO:36.3920987;-105.2859813
X-APPLE-STRUCTURED-LOCATION;VALUE=URI;X-ADDRESS=Mountain View Events Center 380 Fuego st Angel Fire New Mexico 87710;X-APPLE-RADIUS=500;X-TITLE=380 Fuego st:geo:-105.2859813,36.3920987
END:VEVENT
END:VCALENDAR