BEGIN:VCALENDAR
VERSION:2.0
PRODID:-//Angel Fire Resort - ECPv6.15.20//NONSGML v1.0//EN
CALSCALE:GREGORIAN
METHOD:PUBLISH
X-ORIGINAL-URL:https://www.angelfireresort.com
X-WR-CALDESC:Events for Angel Fire Resort
REFRESH-INTERVAL;VALUE=DURATION:PT1H
X-Robots-Tag:noindex
X-PUBLISHED-TTL:PT1H
BEGIN:VTIMEZONE
TZID:America/Denver
BEGIN:DAYLIGHT
TZOFFSETFROM:-0700
TZOFFSETTO:-0600
TZNAME:MDT
DTSTART:20250309T090000
END:DAYLIGHT
BEGIN:STANDARD
TZOFFSETFROM:-0600
TZOFFSETTO:-0700
TZNAME:MST
DTSTART:20251102T080000
END:STANDARD
BEGIN:DAYLIGHT
TZOFFSETFROM:-0700
TZOFFSETTO:-0600
TZNAME:MDT
DTSTART:20260308T090000
END:DAYLIGHT
BEGIN:STANDARD
TZOFFSETFROM:-0600
TZOFFSETTO:-0700
TZNAME:MST
DTSTART:20261101T080000
END:STANDARD
BEGIN:DAYLIGHT
TZOFFSETFROM:-0700
TZOFFSETTO:-0600
TZNAME:MDT
DTSTART:20270314T090000
END:DAYLIGHT
BEGIN:STANDARD
TZOFFSETFROM:-0600
TZOFFSETTO:-0700
TZNAME:MST
DTSTART:20271107T080000
END:STANDARD
END:VTIMEZONE
BEGIN:VEVENT
DTSTART;VALUE=DATE:20260501
DTEND;VALUE=DATE:20260502
DTSTAMP:20260419T113540
CREATED:20260401T192109Z
LAST-MODIFIED:20260401T223258Z
UID:10031256-1777593600-1777679999@www.angelfireresort.com
SUMMARY:Monte Verde Lake Open for Fishing-Members Only
DESCRIPTION:Monte Verde Lake is open for Fishing for Members only. Please visit Membership office at Country Club for fishing permit. \nFor more information\, please visit our website. \nMonte Verde Lake Activities
URL:https://www.angelfireresort.com/event/monte-verde-lake-open-for-fishing/
LOCATION:Monte Verde Lake\, Lakeview Drive\, Angel Fire\, NM\, 87710\, United States
CATEGORIES:Summer Events
ATTACH;FMTTYPE=image/png:https://www.angelfireresort.com/wp-content/uploads/2026/04/MV-Lake-open-for-Fishing.png
GEO:36.3515564;-105.2896741
X-APPLE-STRUCTURED-LOCATION;VALUE=URI;X-ADDRESS=Monte Verde Lake Lakeview Drive Angel Fire NM 87710 United States;X-APPLE-RADIUS=500;X-TITLE=Lakeview Drive:geo:-105.2896741,36.3515564
END:VEVENT
BEGIN:VEVENT
DTSTART;TZID=America/Denver:20260511T090000
DTEND;TZID=America/Denver:20260511T170000
DTSTAMP:20260419T113540
CREATED:20260331T194334Z
LAST-MODIFIED:20260331T194409Z
UID:10031250-1778490000-1778518800@www.angelfireresort.com
SUMMARY:Golf Pro Shop Opens
DESCRIPTION:Get ready for the season with the best gear\, right here at the Angel Fire Golf Shop! We’ll also be ready to book your tee times starting Monday\, May 11.
URL:https://www.angelfireresort.com/event/golf-pro-shop-opens/
LOCATION:Angel Fire Golf Course\, 100 Country Club Drive\, Angel Fire\, NM\, 87710\, United States
CATEGORIES:Golf,Golf Events,Summer Events
ATTACH;FMTTYPE=image/png:https://www.angelfireresort.com/wp-content/uploads/2026/03/Golf-Shop-Opens.png
ORGANIZER;CN="Angel Fire Country Club Golf Staff":MAILTO:golfshop@angelfireresort.com
GEO:36.3764098;-105.2869587
X-APPLE-STRUCTURED-LOCATION;VALUE=URI;X-ADDRESS=Angel Fire Golf Course 100 Country Club Drive Angel Fire NM 87710 United States;X-APPLE-RADIUS=500;X-TITLE=100 Country Club Drive:geo:-105.2869587,36.3764098
END:VEVENT
BEGIN:VEVENT
DTSTART;VALUE=DATE:20260513
DTEND;VALUE=DATE:20260514
DTSTAMP:20260419T113540
CREATED:20260331T195332Z
LAST-MODIFIED:20260331T195353Z
UID:10031251-1778630400-1778716799@www.angelfireresort.com
SUMMARY:Golf Driving Range Opens
DESCRIPTION:Get back in the groove of summer and work on your swing at the Angel Fire Golf Course Driving Range starting Wednesday\, May 13. The course opens to the public on Friday\, May 15th! \nBook your Tee Times starting on the 11th.
URL:https://www.angelfireresort.com/event/golf-driving-range-opens/
LOCATION:Angel Fire Golf Course\, 100 Country Club Drive\, Angel Fire\, NM\, 87710\, United States
CATEGORIES:Golf,Golf Events
ATTACH;FMTTYPE=image/png:https://www.angelfireresort.com/wp-content/uploads/2026/03/The-Driving-Range-Is-Open.png
ORGANIZER;CN="Angel Fire Country Club Golf Staff":MAILTO:golfshop@angelfireresort.com
GEO:36.3764098;-105.2869587
X-APPLE-STRUCTURED-LOCATION;VALUE=URI;X-ADDRESS=Angel Fire Golf Course 100 Country Club Drive Angel Fire NM 87710 United States;X-APPLE-RADIUS=500;X-TITLE=100 Country Club Drive:geo:-105.2869587,36.3764098
END:VEVENT
BEGIN:VEVENT
DTSTART;VALUE=DATE:20260514
DTEND;VALUE=DATE:20260515
DTSTAMP:20260419T113540
CREATED:20260331T193319Z
LAST-MODIFIED:20260331T200559Z
UID:10031248-1778716800-1778803199@www.angelfireresort.com
SUMMARY:Bike Park Preview Day
DESCRIPTION:Are you an Angel Fire Resort Member or a 2026 Gravity Passholder? If so\, we invite you to come enjoy the Bike Park on a day just for you before we open to the public on May 14th from 10 AM – 3 PM! \nMust provide Member ID or Pass.
URL:https://www.angelfireresort.com/event/bike-park-preview-day/
LOCATION:Angel Fire Bike Park\, 10 Miller Lane\, Angel Fire\, NM\, 87710\, United States
CATEGORIES:Bike Park Events,Membership,Summer Events
ATTACH;FMTTYPE=image/png:https://www.angelfireresort.com/wp-content/uploads/2026/03/Bike-Park-Passholder-and-Member-1.png
GEO:36.3879902;-105.2740404
X-APPLE-STRUCTURED-LOCATION;VALUE=URI;X-ADDRESS=Angel Fire Bike Park 10 Miller Lane Angel Fire NM 87710 United States;X-APPLE-RADIUS=500;X-TITLE=10 Miller Lane:geo:-105.2740404,36.3879902
END:VEVENT
BEGIN:VEVENT
DTSTART;VALUE=DATE:20260514
DTEND;VALUE=DATE:20260515
DTSTAMP:20260419T113540
CREATED:20260331T203217Z
LAST-MODIFIED:20260331T203217Z
UID:10031253-1778716800-1778803199@www.angelfireresort.com
SUMMARY:Golf Member Preview Day
DESCRIPTION:Membership has it’s priveleges! Enjoy a special For Members’ Only day on the course. \nStart making reservations on May 11th. \nMust present Member ID Card
URL:https://www.angelfireresort.com/event/golf-member-preview-day/
LOCATION:Angel Fire Golf Course\, 100 Country Club Drive\, Angel Fire\, NM\, 87710\, United States
CATEGORIES:Golf,Golf Events,Membership,Summer Events
ATTACH;FMTTYPE=image/png:https://www.angelfireresort.com/wp-content/uploads/2026/03/Golf-Member-Preview-Day.png
ORGANIZER;CN="Angel Fire Country Club Golf Staff":MAILTO:golfshop@angelfireresort.com
GEO:36.3764098;-105.2869587
X-APPLE-STRUCTURED-LOCATION;VALUE=URI;X-ADDRESS=Angel Fire Golf Course 100 Country Club Drive Angel Fire NM 87710 United States;X-APPLE-RADIUS=500;X-TITLE=100 Country Club Drive:geo:-105.2869587,36.3764098
END:VEVENT
BEGIN:VEVENT
DTSTART;VALUE=DATE:20260515
DTEND;VALUE=DATE:20260516
DTSTAMP:20260419T113540
CREATED:20260331T173026Z
LAST-MODIFIED:20260331T173026Z
UID:10031247-1778803200-1778889599@www.angelfireresort.com
SUMMARY:Golf Course Opens!
DESCRIPTION:Clean off your Clubs\, ’cause the Golf Course is open 7 days a week! \nWe will begin taking tee time reservations on Monday\, May 15. Call 575-377-4488
URL:https://www.angelfireresort.com/event/golf-course-opens/
LOCATION:Angel Fire Golf Course\, 100 Country Club Drive\, Angel Fire\, NM\, 87710\, United States
CATEGORIES:Golf,Golf Events,Summer Events
ATTACH;FMTTYPE=image/png:https://www.angelfireresort.com/wp-content/uploads/2026/03/winters-over-Spring-is-Here-1.png
ORGANIZER;CN="Angel Fire Country Club Golf Staff":MAILTO:golfshop@angelfireresort.com
GEO:36.3764098;-105.2869587
X-APPLE-STRUCTURED-LOCATION;VALUE=URI;X-ADDRESS=Angel Fire Golf Course 100 Country Club Drive Angel Fire NM 87710 United States;X-APPLE-RADIUS=500;X-TITLE=100 Country Club Drive:geo:-105.2869587,36.3764098
END:VEVENT
BEGIN:VEVENT
DTSTART;VALUE=DATE:20260515
DTEND;VALUE=DATE:20260516
DTSTAMP:20260419T113540
CREATED:20260331T221113Z
LAST-MODIFIED:20260331T221113Z
UID:10031254-1778803200-1778889599@www.angelfireresort.com
SUMMARY:Tennis & Pickleball Courts Open!
DESCRIPTION:It’s finally time! The Pickleball & Tennis Courts are opening! Get your gear and head to the courts. Check out the website for more details. \nTennis & Pickleball
URL:https://www.angelfireresort.com/event/tennis-pickleball-courts-open/
LOCATION:Angel Fire Resort\, 10 Miller Lane\, Angel Fire\, NM\, 87710\, United States
CATEGORIES:Summer Events,Tennis Events
ATTACH;FMTTYPE=image/png:https://www.angelfireresort.com/wp-content/uploads/2026/03/TennisPickleball.png
GEO:36.3879902;-105.2740404
X-APPLE-STRUCTURED-LOCATION;VALUE=URI;X-ADDRESS=Angel Fire Resort 10 Miller Lane Angel Fire NM 87710 United States;X-APPLE-RADIUS=500;X-TITLE=10 Miller Lane:geo:-105.2740404,36.3879902
END:VEVENT
BEGIN:VEVENT
DTSTART;VALUE=DATE:20260515
DTEND;VALUE=DATE:20260516
DTSTAMP:20260419T113540
CREATED:20260404T181958Z
LAST-MODIFIED:20260404T181958Z
UID:10031515-1778803200-1778889599@www.angelfireresort.com
SUMMARY:Run for the Wall
DESCRIPTION:Run For The Wall® (also known as RFTW) is an organized cross-country motorcycle ride to honor our veterans\, their families and friends and to raise awareness of those still missing – Prisoners of War (POW) and Missing in Action (MIA). The ride\, or “run” as many motorcyclists call it\, starts in Ontario\, California and ten days later ends at the Vietnam Memorial Wall in our nation’s capital\, Washington\, D.C. We then have a 3-day “run” from D.C. to the Middle East Conflicts Wall in Marseilles\, IL. “Wall to Wall”.
URL:https://www.angelfireresort.com/event/run-for-the-wall/
LOCATION:Angel Fire Resort\, 10 Miller Lane\, Angel Fire\, NM\, 87710\, United States
CATEGORIES:Summer Events
ATTACH;FMTTYPE=image/jpeg:https://www.angelfireresort.com/wp-content/uploads/2026/04/525_run-for-the-wall.jpg
GEO:36.3879902;-105.2740404
X-APPLE-STRUCTURED-LOCATION;VALUE=URI;X-ADDRESS=Angel Fire Resort 10 Miller Lane Angel Fire NM 87710 United States;X-APPLE-RADIUS=500;X-TITLE=10 Miller Lane:geo:-105.2740404,36.3879902
END:VEVENT
BEGIN:VEVENT
DTSTART;TZID=America/Denver:20260525T173000
DTEND;TZID=America/Denver:20260525T190000
DTSTAMP:20260419T113540
CREATED:20260404T134408Z
LAST-MODIFIED:20260404T134409Z
UID:10031464-1779730200-1779735600@www.angelfireresort.com
SUMMARY:Par Tee Niners Golf Scramble
DESCRIPTION:ParTee Niners is a laid-back ladies’ golf group where the only rule is to have fun! No scorecards\, no pressure—just good times on the course with great company. Whether you’re a seasoned golfer or brand new to the game\, ParTee Niners is all about enjoying the game\, the fresh air\, and a few laughs along the way. Grab your clubs\, sip your favorite drink\, and swing into a stress-free round with us! \nAny level is accepted\, but fun is REQUIRED!\n\nEvery Monday at 5:30 PM\nEveryone plays from the red tees. Cart-Owning Member Price: $1\nMember Price: $19\nPublic Price: $40\nCart Included\n\n\nUse this link to sign up: https://forms.gle/3fFpchhut3cHMrdr7 \nIf you have any questions\, don’t hesitate to call Ally Weber at 575.377.4488 or email aweber@angelfireresort.com \n\n  \n 
URL:https://www.angelfireresort.com/event/par-tee-niners-golf-scramble-2-2/2026-05-25/
LOCATION:Angel Fire Golf Course\, 100 Country Club Drive\, Angel Fire\, NM\, 87710\, United States
CATEGORIES:Golf,Golf Events
ATTACH;FMTTYPE=image/png:https://www.angelfireresort.com/wp-content/uploads/2025/03/ParTee-Niners-Golf-2.png
ORGANIZER;CN="Angel Fire Country Club Golf Staff":MAILTO:golfshop@angelfireresort.com
GEO:36.3764098;-105.2869587
X-APPLE-STRUCTURED-LOCATION;VALUE=URI;X-ADDRESS=Angel Fire Golf Course 100 Country Club Drive Angel Fire NM 87710 United States;X-APPLE-RADIUS=500;X-TITLE=100 Country Club Drive:geo:-105.2869587,36.3764098
END:VEVENT
BEGIN:VEVENT
DTSTART;TZID=America/Denver:20260526T030000
DTEND;TZID=America/Denver:20260526T040000
DTSTAMP:20260419T113540
CREATED:20260401T205117Z
LAST-MODIFIED:20260401T205446Z
UID:10031330-1779764400-1779768000@www.angelfireresort.com
SUMMARY:Summer Junior Golf Team-1st Practice
DESCRIPTION:Join the 2026 Summer Jr. Golf Team! Angel Fire Jr. Golf Team is designed to better socialize the game of golf for participants 16 and under. One-Hour practices will be held on seven Mondays\, and 2-Hour matches on three Mondays. These practices feature the U.S. Kids Golf Learning Program\, a proven method for introducing golf to young players. This program becomes more difficult as players advance through the ten levels\, and the Level 1-10 booklets provide a framework for both coaches and parents. Matches feature a team-vs-team structure\, providing a popular\, less stressful\, scramble format. The Angel Fire Junior Golf Team is a great way to get the entire family involved in golf. All playing ability levels are welcome. \nFor more information please contact the Golf Pro Shop at 575-377-4488 or email at golfshop@angelfireresort.com
URL:https://www.angelfireresort.com/event/summer-junior-golf-team/
LOCATION:Angel Fire Golf Course\, 100 Country Club Drive\, Angel Fire\, NM\, 87710\, United States
CATEGORIES:Golf,Golf Events
ATTACH;FMTTYPE=image/png:https://www.angelfireresort.com/wp-content/uploads/2026/04/JR-Golf-Team-1.png
ORGANIZER;CN="Angel Fire Country Club Golf Staff":MAILTO:golfshop@angelfireresort.com
GEO:36.3764098;-105.2869587
X-APPLE-STRUCTURED-LOCATION;VALUE=URI;X-ADDRESS=Angel Fire Golf Course 100 Country Club Drive Angel Fire NM 87710 United States;X-APPLE-RADIUS=500;X-TITLE=100 Country Club Drive:geo:-105.2869587,36.3764098
END:VEVENT
END:VCALENDAR