BEGIN:VCALENDAR
VERSION:2.0
PRODID:-//Angel Fire Resort - ECPv6.15.20//NONSGML v1.0//EN
CALSCALE:GREGORIAN
METHOD:PUBLISH
X-WR-CALNAME:Angel Fire Resort
X-ORIGINAL-URL:https://www.angelfireresort.com
X-WR-CALDESC:Events for Angel Fire Resort
REFRESH-INTERVAL;VALUE=DURATION:PT1H
X-Robots-Tag:noindex
X-PUBLISHED-TTL:PT1H
BEGIN:VTIMEZONE
TZID:America/Denver
BEGIN:DAYLIGHT
TZOFFSETFROM:-0700
TZOFFSETTO:-0600
TZNAME:MDT
DTSTART:20250309T090000
END:DAYLIGHT
BEGIN:STANDARD
TZOFFSETFROM:-0600
TZOFFSETTO:-0700
TZNAME:MST
DTSTART:20251102T080000
END:STANDARD
BEGIN:DAYLIGHT
TZOFFSETFROM:-0700
TZOFFSETTO:-0600
TZNAME:MDT
DTSTART:20260308T090000
END:DAYLIGHT
BEGIN:STANDARD
TZOFFSETFROM:-0600
TZOFFSETTO:-0700
TZNAME:MST
DTSTART:20261101T080000
END:STANDARD
BEGIN:DAYLIGHT
TZOFFSETFROM:-0700
TZOFFSETTO:-0600
TZNAME:MDT
DTSTART:20270314T090000
END:DAYLIGHT
BEGIN:STANDARD
TZOFFSETFROM:-0600
TZOFFSETTO:-0700
TZNAME:MST
DTSTART:20271107T080000
END:STANDARD
END:VTIMEZONE
BEGIN:VEVENT
DTSTART;TZID=America/Denver:20260514T100000
DTEND;TZID=America/Denver:20260514T110000
DTSTAMP:20260425T110706
CREATED:20260422T202411Z
LAST-MODIFIED:20260423T180923Z
UID:10031659-1778752800-1778756400@www.angelfireresort.com
SUMMARY:Pickleball 101 at the RV Resort
DESCRIPTION:Join Kat to improve or learn Pickleball skills. Join her at the RV Resort Pickleball courts. From 10-11am Thursdays. \nFor RV Resort guests only.
URL:https://www.angelfireresort.com/event/pickleball-101/2026-05-14/
LOCATION:Angel Fire RV Resort\, 27500  US Highway 64\, Angel Fire\, 87710
CATEGORIES:RV Resort Events,Summer Events
ATTACH;FMTTYPE=image/png:https://www.angelfireresort.com/wp-content/uploads/2026/04/Pickleball-101.png
ORGANIZER;CN="Angel Fire RV Resort":MAILTO:slund@angelfireresort.com
GEO:36.4393736;-105.2892721
X-APPLE-STRUCTURED-LOCATION;VALUE=URI;X-ADDRESS=Angel Fire RV Resort 27500  US Highway 64 Angel Fire 87710;X-APPLE-RADIUS=500;X-TITLE=27500  US Highway 64:geo:-105.2892721,36.4393736
END:VEVENT
BEGIN:VEVENT
DTSTART;TZID=America/Denver:20260521T100000
DTEND;TZID=America/Denver:20260521T110000
DTSTAMP:20260425T110706
CREATED:20260422T202411Z
LAST-MODIFIED:20260423T180923Z
UID:10031660-1779357600-1779361200@www.angelfireresort.com
SUMMARY:Pickleball 101 at the RV Resort
DESCRIPTION:Join Kat to improve or learn Pickleball skills. Join her at the RV Resort Pickleball courts. From 10-11am Thursdays. \nFor RV Resort guests only.
URL:https://www.angelfireresort.com/event/pickleball-101/2026-05-21/
LOCATION:Angel Fire RV Resort\, 27500  US Highway 64\, Angel Fire\, 87710
CATEGORIES:RV Resort Events,Summer Events
ATTACH;FMTTYPE=image/png:https://www.angelfireresort.com/wp-content/uploads/2026/04/Pickleball-101.png
ORGANIZER;CN="Angel Fire RV Resort":MAILTO:slund@angelfireresort.com
GEO:36.4393736;-105.2892721
X-APPLE-STRUCTURED-LOCATION;VALUE=URI;X-ADDRESS=Angel Fire RV Resort 27500  US Highway 64 Angel Fire 87710;X-APPLE-RADIUS=500;X-TITLE=27500  US Highway 64:geo:-105.2892721,36.4393736
END:VEVENT
BEGIN:VEVENT
DTSTART;TZID=America/Denver:20260528T100000
DTEND;TZID=America/Denver:20260528T110000
DTSTAMP:20260425T110706
CREATED:20260422T202411Z
LAST-MODIFIED:20260423T180923Z
UID:10031661-1779962400-1779966000@www.angelfireresort.com
SUMMARY:Pickleball 101 at the RV Resort
DESCRIPTION:Join Kat to improve or learn Pickleball skills. Join her at the RV Resort Pickleball courts. From 10-11am Thursdays. \nFor RV Resort guests only.
URL:https://www.angelfireresort.com/event/pickleball-101/2026-05-28/
LOCATION:Angel Fire RV Resort\, 27500  US Highway 64\, Angel Fire\, 87710
CATEGORIES:RV Resort Events,Summer Events
ATTACH;FMTTYPE=image/png:https://www.angelfireresort.com/wp-content/uploads/2026/04/Pickleball-101.png
ORGANIZER;CN="Angel Fire RV Resort":MAILTO:slund@angelfireresort.com
GEO:36.4393736;-105.2892721
X-APPLE-STRUCTURED-LOCATION;VALUE=URI;X-ADDRESS=Angel Fire RV Resort 27500  US Highway 64 Angel Fire 87710;X-APPLE-RADIUS=500;X-TITLE=27500  US Highway 64:geo:-105.2892721,36.4393736
END:VEVENT
BEGIN:VEVENT
DTSTART;TZID=America/Denver:20260604T100000
DTEND;TZID=America/Denver:20260604T110000
DTSTAMP:20260425T110706
CREATED:20260422T202411Z
LAST-MODIFIED:20260423T180923Z
UID:10031662-1780567200-1780570800@www.angelfireresort.com
SUMMARY:Pickleball 101 at the RV Resort
DESCRIPTION:Join Kat to improve or learn Pickleball skills. Join her at the RV Resort Pickleball courts. From 10-11am Thursdays. \nFor RV Resort guests only.
URL:https://www.angelfireresort.com/event/pickleball-101/2026-06-04/
LOCATION:Angel Fire RV Resort\, 27500  US Highway 64\, Angel Fire\, 87710
CATEGORIES:RV Resort Events,Summer Events
ATTACH;FMTTYPE=image/png:https://www.angelfireresort.com/wp-content/uploads/2026/04/Pickleball-101.png
ORGANIZER;CN="Angel Fire RV Resort":MAILTO:slund@angelfireresort.com
GEO:36.4393736;-105.2892721
X-APPLE-STRUCTURED-LOCATION;VALUE=URI;X-ADDRESS=Angel Fire RV Resort 27500  US Highway 64 Angel Fire 87710;X-APPLE-RADIUS=500;X-TITLE=27500  US Highway 64:geo:-105.2892721,36.4393736
END:VEVENT
BEGIN:VEVENT
DTSTART;TZID=America/Denver:20260611T100000
DTEND;TZID=America/Denver:20260611T110000
DTSTAMP:20260425T110706
CREATED:20260422T202411Z
LAST-MODIFIED:20260423T180923Z
UID:10031663-1781172000-1781175600@www.angelfireresort.com
SUMMARY:Pickleball 101 at the RV Resort
DESCRIPTION:Join Kat to improve or learn Pickleball skills. Join her at the RV Resort Pickleball courts. From 10-11am Thursdays. \nFor RV Resort guests only.
URL:https://www.angelfireresort.com/event/pickleball-101/2026-06-11/
LOCATION:Angel Fire RV Resort\, 27500  US Highway 64\, Angel Fire\, 87710
CATEGORIES:RV Resort Events,Summer Events
ATTACH;FMTTYPE=image/png:https://www.angelfireresort.com/wp-content/uploads/2026/04/Pickleball-101.png
ORGANIZER;CN="Angel Fire RV Resort":MAILTO:slund@angelfireresort.com
GEO:36.4393736;-105.2892721
X-APPLE-STRUCTURED-LOCATION;VALUE=URI;X-ADDRESS=Angel Fire RV Resort 27500  US Highway 64 Angel Fire 87710;X-APPLE-RADIUS=500;X-TITLE=27500  US Highway 64:geo:-105.2892721,36.4393736
END:VEVENT
BEGIN:VEVENT
DTSTART;TZID=America/Denver:20260618T100000
DTEND;TZID=America/Denver:20260618T110000
DTSTAMP:20260425T110706
CREATED:20260422T202411Z
LAST-MODIFIED:20260423T180923Z
UID:10031664-1781776800-1781780400@www.angelfireresort.com
SUMMARY:Pickleball 101 at the RV Resort
DESCRIPTION:Join Kat to improve or learn Pickleball skills. Join her at the RV Resort Pickleball courts. From 10-11am Thursdays. \nFor RV Resort guests only.
URL:https://www.angelfireresort.com/event/pickleball-101/2026-06-18/
LOCATION:Angel Fire RV Resort\, 27500  US Highway 64\, Angel Fire\, 87710
CATEGORIES:RV Resort Events,Summer Events
ATTACH;FMTTYPE=image/png:https://www.angelfireresort.com/wp-content/uploads/2026/04/Pickleball-101.png
ORGANIZER;CN="Angel Fire RV Resort":MAILTO:slund@angelfireresort.com
GEO:36.4393736;-105.2892721
X-APPLE-STRUCTURED-LOCATION;VALUE=URI;X-ADDRESS=Angel Fire RV Resort 27500  US Highway 64 Angel Fire 87710;X-APPLE-RADIUS=500;X-TITLE=27500  US Highway 64:geo:-105.2892721,36.4393736
END:VEVENT
BEGIN:VEVENT
DTSTART;TZID=America/Denver:20260625T100000
DTEND;TZID=America/Denver:20260625T110000
DTSTAMP:20260425T110706
CREATED:20260422T202411Z
LAST-MODIFIED:20260423T180923Z
UID:10031665-1782381600-1782385200@www.angelfireresort.com
SUMMARY:Pickleball 101 at the RV Resort
DESCRIPTION:Join Kat to improve or learn Pickleball skills. Join her at the RV Resort Pickleball courts. From 10-11am Thursdays. \nFor RV Resort guests only.
URL:https://www.angelfireresort.com/event/pickleball-101/2026-06-25/
LOCATION:Angel Fire RV Resort\, 27500  US Highway 64\, Angel Fire\, 87710
CATEGORIES:RV Resort Events,Summer Events
ATTACH;FMTTYPE=image/png:https://www.angelfireresort.com/wp-content/uploads/2026/04/Pickleball-101.png
ORGANIZER;CN="Angel Fire RV Resort":MAILTO:slund@angelfireresort.com
GEO:36.4393736;-105.2892721
X-APPLE-STRUCTURED-LOCATION;VALUE=URI;X-ADDRESS=Angel Fire RV Resort 27500  US Highway 64 Angel Fire 87710;X-APPLE-RADIUS=500;X-TITLE=27500  US Highway 64:geo:-105.2892721,36.4393736
END:VEVENT
BEGIN:VEVENT
DTSTART;TZID=America/Denver:20260702T100000
DTEND;TZID=America/Denver:20260702T110000
DTSTAMP:20260425T110706
CREATED:20260422T202411Z
LAST-MODIFIED:20260423T180923Z
UID:10031666-1782986400-1782990000@www.angelfireresort.com
SUMMARY:Pickleball 101 at the RV Resort
DESCRIPTION:Join Kat to improve or learn Pickleball skills. Join her at the RV Resort Pickleball courts. From 10-11am Thursdays. \nFor RV Resort guests only.
URL:https://www.angelfireresort.com/event/pickleball-101/2026-07-02/
LOCATION:Angel Fire RV Resort\, 27500  US Highway 64\, Angel Fire\, 87710
CATEGORIES:RV Resort Events,Summer Events
ATTACH;FMTTYPE=image/png:https://www.angelfireresort.com/wp-content/uploads/2026/04/Pickleball-101.png
ORGANIZER;CN="Angel Fire RV Resort":MAILTO:slund@angelfireresort.com
GEO:36.4393736;-105.2892721
X-APPLE-STRUCTURED-LOCATION;VALUE=URI;X-ADDRESS=Angel Fire RV Resort 27500  US Highway 64 Angel Fire 87710;X-APPLE-RADIUS=500;X-TITLE=27500  US Highway 64:geo:-105.2892721,36.4393736
END:VEVENT
BEGIN:VEVENT
DTSTART;TZID=America/Denver:20260709T100000
DTEND;TZID=America/Denver:20260709T110000
DTSTAMP:20260425T110706
CREATED:20260422T202411Z
LAST-MODIFIED:20260423T180923Z
UID:10031667-1783591200-1783594800@www.angelfireresort.com
SUMMARY:Pickleball 101 at the RV Resort
DESCRIPTION:Join Kat to improve or learn Pickleball skills. Join her at the RV Resort Pickleball courts. From 10-11am Thursdays. \nFor RV Resort guests only.
URL:https://www.angelfireresort.com/event/pickleball-101/2026-07-09/
LOCATION:Angel Fire RV Resort\, 27500  US Highway 64\, Angel Fire\, 87710
CATEGORIES:RV Resort Events,Summer Events
ATTACH;FMTTYPE=image/png:https://www.angelfireresort.com/wp-content/uploads/2026/04/Pickleball-101.png
ORGANIZER;CN="Angel Fire RV Resort":MAILTO:slund@angelfireresort.com
GEO:36.4393736;-105.2892721
X-APPLE-STRUCTURED-LOCATION;VALUE=URI;X-ADDRESS=Angel Fire RV Resort 27500  US Highway 64 Angel Fire 87710;X-APPLE-RADIUS=500;X-TITLE=27500  US Highway 64:geo:-105.2892721,36.4393736
END:VEVENT
BEGIN:VEVENT
DTSTART;TZID=America/Denver:20260716T100000
DTEND;TZID=America/Denver:20260716T110000
DTSTAMP:20260425T110706
CREATED:20260422T202411Z
LAST-MODIFIED:20260423T180923Z
UID:10031668-1784196000-1784199600@www.angelfireresort.com
SUMMARY:Pickleball 101 at the RV Resort
DESCRIPTION:Join Kat to improve or learn Pickleball skills. Join her at the RV Resort Pickleball courts. From 10-11am Thursdays. \nFor RV Resort guests only.
URL:https://www.angelfireresort.com/event/pickleball-101/2026-07-16/
LOCATION:Angel Fire RV Resort\, 27500  US Highway 64\, Angel Fire\, 87710
CATEGORIES:RV Resort Events,Summer Events
ATTACH;FMTTYPE=image/png:https://www.angelfireresort.com/wp-content/uploads/2026/04/Pickleball-101.png
ORGANIZER;CN="Angel Fire RV Resort":MAILTO:slund@angelfireresort.com
GEO:36.4393736;-105.2892721
X-APPLE-STRUCTURED-LOCATION;VALUE=URI;X-ADDRESS=Angel Fire RV Resort 27500  US Highway 64 Angel Fire 87710;X-APPLE-RADIUS=500;X-TITLE=27500  US Highway 64:geo:-105.2892721,36.4393736
END:VEVENT
BEGIN:VEVENT
DTSTART;TZID=America/Denver:20260723T100000
DTEND;TZID=America/Denver:20260723T110000
DTSTAMP:20260425T110706
CREATED:20260422T202411Z
LAST-MODIFIED:20260423T180923Z
UID:10031669-1784800800-1784804400@www.angelfireresort.com
SUMMARY:Pickleball 101 at the RV Resort
DESCRIPTION:Join Kat to improve or learn Pickleball skills. Join her at the RV Resort Pickleball courts. From 10-11am Thursdays. \nFor RV Resort guests only.
URL:https://www.angelfireresort.com/event/pickleball-101/2026-07-23/
LOCATION:Angel Fire RV Resort\, 27500  US Highway 64\, Angel Fire\, 87710
CATEGORIES:RV Resort Events,Summer Events
ATTACH;FMTTYPE=image/png:https://www.angelfireresort.com/wp-content/uploads/2026/04/Pickleball-101.png
ORGANIZER;CN="Angel Fire RV Resort":MAILTO:slund@angelfireresort.com
GEO:36.4393736;-105.2892721
X-APPLE-STRUCTURED-LOCATION;VALUE=URI;X-ADDRESS=Angel Fire RV Resort 27500  US Highway 64 Angel Fire 87710;X-APPLE-RADIUS=500;X-TITLE=27500  US Highway 64:geo:-105.2892721,36.4393736
END:VEVENT
BEGIN:VEVENT
DTSTART;TZID=America/Denver:20260730T100000
DTEND;TZID=America/Denver:20260730T110000
DTSTAMP:20260425T110706
CREATED:20260422T202411Z
LAST-MODIFIED:20260423T180923Z
UID:10031670-1785405600-1785409200@www.angelfireresort.com
SUMMARY:Pickleball 101 at the RV Resort
DESCRIPTION:Join Kat to improve or learn Pickleball skills. Join her at the RV Resort Pickleball courts. From 10-11am Thursdays. \nFor RV Resort guests only.
URL:https://www.angelfireresort.com/event/pickleball-101/2026-07-30/
LOCATION:Angel Fire RV Resort\, 27500  US Highway 64\, Angel Fire\, 87710
CATEGORIES:RV Resort Events,Summer Events
ATTACH;FMTTYPE=image/png:https://www.angelfireresort.com/wp-content/uploads/2026/04/Pickleball-101.png
ORGANIZER;CN="Angel Fire RV Resort":MAILTO:slund@angelfireresort.com
GEO:36.4393736;-105.2892721
X-APPLE-STRUCTURED-LOCATION;VALUE=URI;X-ADDRESS=Angel Fire RV Resort 27500  US Highway 64 Angel Fire 87710;X-APPLE-RADIUS=500;X-TITLE=27500  US Highway 64:geo:-105.2892721,36.4393736
END:VEVENT
BEGIN:VEVENT
DTSTART;TZID=America/Denver:20260806T100000
DTEND;TZID=America/Denver:20260806T110000
DTSTAMP:20260425T110706
CREATED:20260422T202411Z
LAST-MODIFIED:20260423T180923Z
UID:10031671-1786010400-1786014000@www.angelfireresort.com
SUMMARY:Pickleball 101 at the RV Resort
DESCRIPTION:Join Kat to improve or learn Pickleball skills. Join her at the RV Resort Pickleball courts. From 10-11am Thursdays. \nFor RV Resort guests only.
URL:https://www.angelfireresort.com/event/pickleball-101/2026-08-06/
LOCATION:Angel Fire RV Resort\, 27500  US Highway 64\, Angel Fire\, 87710
CATEGORIES:RV Resort Events,Summer Events
ATTACH;FMTTYPE=image/png:https://www.angelfireresort.com/wp-content/uploads/2026/04/Pickleball-101.png
ORGANIZER;CN="Angel Fire RV Resort":MAILTO:slund@angelfireresort.com
GEO:36.4393736;-105.2892721
X-APPLE-STRUCTURED-LOCATION;VALUE=URI;X-ADDRESS=Angel Fire RV Resort 27500  US Highway 64 Angel Fire 87710;X-APPLE-RADIUS=500;X-TITLE=27500  US Highway 64:geo:-105.2892721,36.4393736
END:VEVENT
BEGIN:VEVENT
DTSTART;TZID=America/Denver:20260813T100000
DTEND;TZID=America/Denver:20260813T110000
DTSTAMP:20260425T110706
CREATED:20260422T202411Z
LAST-MODIFIED:20260423T180923Z
UID:10031672-1786615200-1786618800@www.angelfireresort.com
SUMMARY:Pickleball 101 at the RV Resort
DESCRIPTION:Join Kat to improve or learn Pickleball skills. Join her at the RV Resort Pickleball courts. From 10-11am Thursdays. \nFor RV Resort guests only.
URL:https://www.angelfireresort.com/event/pickleball-101/2026-08-13/
LOCATION:Angel Fire RV Resort\, 27500  US Highway 64\, Angel Fire\, 87710
CATEGORIES:RV Resort Events,Summer Events
ATTACH;FMTTYPE=image/png:https://www.angelfireresort.com/wp-content/uploads/2026/04/Pickleball-101.png
ORGANIZER;CN="Angel Fire RV Resort":MAILTO:slund@angelfireresort.com
GEO:36.4393736;-105.2892721
X-APPLE-STRUCTURED-LOCATION;VALUE=URI;X-ADDRESS=Angel Fire RV Resort 27500  US Highway 64 Angel Fire 87710;X-APPLE-RADIUS=500;X-TITLE=27500  US Highway 64:geo:-105.2892721,36.4393736
END:VEVENT
BEGIN:VEVENT
DTSTART;TZID=America/Denver:20260820T100000
DTEND;TZID=America/Denver:20260820T110000
DTSTAMP:20260425T110706
CREATED:20260422T202411Z
LAST-MODIFIED:20260423T180923Z
UID:10031673-1787220000-1787223600@www.angelfireresort.com
SUMMARY:Pickleball 101 at the RV Resort
DESCRIPTION:Join Kat to improve or learn Pickleball skills. Join her at the RV Resort Pickleball courts. From 10-11am Thursdays. \nFor RV Resort guests only.
URL:https://www.angelfireresort.com/event/pickleball-101/2026-08-20/
LOCATION:Angel Fire RV Resort\, 27500  US Highway 64\, Angel Fire\, 87710
CATEGORIES:RV Resort Events,Summer Events
ATTACH;FMTTYPE=image/png:https://www.angelfireresort.com/wp-content/uploads/2026/04/Pickleball-101.png
ORGANIZER;CN="Angel Fire RV Resort":MAILTO:slund@angelfireresort.com
GEO:36.4393736;-105.2892721
X-APPLE-STRUCTURED-LOCATION;VALUE=URI;X-ADDRESS=Angel Fire RV Resort 27500  US Highway 64 Angel Fire 87710;X-APPLE-RADIUS=500;X-TITLE=27500  US Highway 64:geo:-105.2892721,36.4393736
END:VEVENT
BEGIN:VEVENT
DTSTART;TZID=America/Denver:20260827T100000
DTEND;TZID=America/Denver:20260827T110000
DTSTAMP:20260425T110706
CREATED:20260422T202411Z
LAST-MODIFIED:20260423T180923Z
UID:10031674-1787824800-1787828400@www.angelfireresort.com
SUMMARY:Pickleball 101 at the RV Resort
DESCRIPTION:Join Kat to improve or learn Pickleball skills. Join her at the RV Resort Pickleball courts. From 10-11am Thursdays. \nFor RV Resort guests only.
URL:https://www.angelfireresort.com/event/pickleball-101/2026-08-27/
LOCATION:Angel Fire RV Resort\, 27500  US Highway 64\, Angel Fire\, 87710
CATEGORIES:RV Resort Events,Summer Events
ATTACH;FMTTYPE=image/png:https://www.angelfireresort.com/wp-content/uploads/2026/04/Pickleball-101.png
ORGANIZER;CN="Angel Fire RV Resort":MAILTO:slund@angelfireresort.com
GEO:36.4393736;-105.2892721
X-APPLE-STRUCTURED-LOCATION;VALUE=URI;X-ADDRESS=Angel Fire RV Resort 27500  US Highway 64 Angel Fire 87710;X-APPLE-RADIUS=500;X-TITLE=27500  US Highway 64:geo:-105.2892721,36.4393736
END:VEVENT
BEGIN:VEVENT
DTSTART;TZID=America/Denver:20260903T100000
DTEND;TZID=America/Denver:20260903T110000
DTSTAMP:20260425T110706
CREATED:20260422T202411Z
LAST-MODIFIED:20260423T180923Z
UID:10031675-1788429600-1788433200@www.angelfireresort.com
SUMMARY:Pickleball 101 at the RV Resort
DESCRIPTION:Join Kat to improve or learn Pickleball skills. Join her at the RV Resort Pickleball courts. From 10-11am Thursdays. \nFor RV Resort guests only.
URL:https://www.angelfireresort.com/event/pickleball-101/2026-09-03/
LOCATION:Angel Fire RV Resort\, 27500  US Highway 64\, Angel Fire\, 87710
CATEGORIES:RV Resort Events,Summer Events
ATTACH;FMTTYPE=image/png:https://www.angelfireresort.com/wp-content/uploads/2026/04/Pickleball-101.png
ORGANIZER;CN="Angel Fire RV Resort":MAILTO:slund@angelfireresort.com
GEO:36.4393736;-105.2892721
X-APPLE-STRUCTURED-LOCATION;VALUE=URI;X-ADDRESS=Angel Fire RV Resort 27500  US Highway 64 Angel Fire 87710;X-APPLE-RADIUS=500;X-TITLE=27500  US Highway 64:geo:-105.2892721,36.4393736
END:VEVENT
BEGIN:VEVENT
DTSTART;TZID=America/Denver:20260910T100000
DTEND;TZID=America/Denver:20260910T110000
DTSTAMP:20260425T110706
CREATED:20260422T202411Z
LAST-MODIFIED:20260423T180923Z
UID:10031676-1789034400-1789038000@www.angelfireresort.com
SUMMARY:Pickleball 101 at the RV Resort
DESCRIPTION:Join Kat to improve or learn Pickleball skills. Join her at the RV Resort Pickleball courts. From 10-11am Thursdays. \nFor RV Resort guests only.
URL:https://www.angelfireresort.com/event/pickleball-101/2026-09-10/
LOCATION:Angel Fire RV Resort\, 27500  US Highway 64\, Angel Fire\, 87710
CATEGORIES:RV Resort Events,Summer Events
ATTACH;FMTTYPE=image/png:https://www.angelfireresort.com/wp-content/uploads/2026/04/Pickleball-101.png
ORGANIZER;CN="Angel Fire RV Resort":MAILTO:slund@angelfireresort.com
GEO:36.4393736;-105.2892721
X-APPLE-STRUCTURED-LOCATION;VALUE=URI;X-ADDRESS=Angel Fire RV Resort 27500  US Highway 64 Angel Fire 87710;X-APPLE-RADIUS=500;X-TITLE=27500  US Highway 64:geo:-105.2892721,36.4393736
END:VEVENT
BEGIN:VEVENT
DTSTART;TZID=America/Denver:20260917T100000
DTEND;TZID=America/Denver:20260917T110000
DTSTAMP:20260425T110706
CREATED:20260422T202411Z
LAST-MODIFIED:20260423T180923Z
UID:10031677-1789639200-1789642800@www.angelfireresort.com
SUMMARY:Pickleball 101 at the RV Resort
DESCRIPTION:Join Kat to improve or learn Pickleball skills. Join her at the RV Resort Pickleball courts. From 10-11am Thursdays. \nFor RV Resort guests only.
URL:https://www.angelfireresort.com/event/pickleball-101/2026-09-17/
LOCATION:Angel Fire RV Resort\, 27500  US Highway 64\, Angel Fire\, 87710
CATEGORIES:RV Resort Events,Summer Events
ATTACH;FMTTYPE=image/png:https://www.angelfireresort.com/wp-content/uploads/2026/04/Pickleball-101.png
ORGANIZER;CN="Angel Fire RV Resort":MAILTO:slund@angelfireresort.com
GEO:36.4393736;-105.2892721
X-APPLE-STRUCTURED-LOCATION;VALUE=URI;X-ADDRESS=Angel Fire RV Resort 27500  US Highway 64 Angel Fire 87710;X-APPLE-RADIUS=500;X-TITLE=27500  US Highway 64:geo:-105.2892721,36.4393736
END:VEVENT
BEGIN:VEVENT
DTSTART;TZID=America/Denver:20260924T100000
DTEND;TZID=America/Denver:20260924T110000
DTSTAMP:20260425T110706
CREATED:20260422T202411Z
LAST-MODIFIED:20260423T180923Z
UID:10031678-1790244000-1790247600@www.angelfireresort.com
SUMMARY:Pickleball 101 at the RV Resort
DESCRIPTION:Join Kat to improve or learn Pickleball skills. Join her at the RV Resort Pickleball courts. From 10-11am Thursdays. \nFor RV Resort guests only.
URL:https://www.angelfireresort.com/event/pickleball-101/2026-09-24/
LOCATION:Angel Fire RV Resort\, 27500  US Highway 64\, Angel Fire\, 87710
CATEGORIES:RV Resort Events,Summer Events
ATTACH;FMTTYPE=image/png:https://www.angelfireresort.com/wp-content/uploads/2026/04/Pickleball-101.png
ORGANIZER;CN="Angel Fire RV Resort":MAILTO:slund@angelfireresort.com
GEO:36.4393736;-105.2892721
X-APPLE-STRUCTURED-LOCATION;VALUE=URI;X-ADDRESS=Angel Fire RV Resort 27500  US Highway 64 Angel Fire 87710;X-APPLE-RADIUS=500;X-TITLE=27500  US Highway 64:geo:-105.2892721,36.4393736
END:VEVENT
END:VCALENDAR