BEGIN:VCALENDAR
VERSION:2.0
PRODID:-//Angel Fire Resort - ECPv6.15.20//NONSGML v1.0//EN
CALSCALE:GREGORIAN
METHOD:PUBLISH
X-WR-CALNAME:Angel Fire Resort
X-ORIGINAL-URL:https://www.angelfireresort.com
X-WR-CALDESC:Events for Angel Fire Resort
REFRESH-INTERVAL;VALUE=DURATION:PT1H
X-Robots-Tag:noindex
X-PUBLISHED-TTL:PT1H
BEGIN:VTIMEZONE
TZID:America/Denver
BEGIN:DAYLIGHT
TZOFFSETFROM:-0700
TZOFFSETTO:-0600
TZNAME:MDT
DTSTART:20240310T090000
END:DAYLIGHT
BEGIN:STANDARD
TZOFFSETFROM:-0600
TZOFFSETTO:-0700
TZNAME:MST
DTSTART:20241103T080000
END:STANDARD
BEGIN:DAYLIGHT
TZOFFSETFROM:-0700
TZOFFSETTO:-0600
TZNAME:MDT
DTSTART:20250309T090000
END:DAYLIGHT
BEGIN:STANDARD
TZOFFSETFROM:-0600
TZOFFSETTO:-0700
TZNAME:MST
DTSTART:20251102T080000
END:STANDARD
BEGIN:DAYLIGHT
TZOFFSETFROM:-0700
TZOFFSETTO:-0600
TZNAME:MDT
DTSTART:20260308T090000
END:DAYLIGHT
BEGIN:STANDARD
TZOFFSETFROM:-0600
TZOFFSETTO:-0700
TZNAME:MST
DTSTART:20261101T080000
END:STANDARD
BEGIN:DAYLIGHT
TZOFFSETFROM:-0700
TZOFFSETTO:-0600
TZNAME:MDT
DTSTART:20270314T090000
END:DAYLIGHT
BEGIN:STANDARD
TZOFFSETFROM:-0600
TZOFFSETTO:-0700
TZNAME:MST
DTSTART:20271107T080000
END:STANDARD
END:VTIMEZONE
BEGIN:VEVENT
DTSTART;TZID=America/Denver:20260123T160000
DTEND;TZID=America/Denver:20260123T180000
DTSTAMP:20260424T005522
CREATED:20260123T175936Z
LAST-MODIFIED:20260123T175937Z
UID:10031113-1769184000-1769191200@www.angelfireresort.com
SUMMARY:Live Music @ Village Haus | Ry Taylor
DESCRIPTION:After the slopes\, enjoy an Irish Coffee or cold beer at the Village Haus with the local music of Ry Taylor. Fridays all Winter.
URL:https://www.angelfireresort.com/event/live-music-village-haus-ry-taylor-2/
LOCATION:Village Haus\, 10 Miller Lane\, Angel Fire\, 87710
CATEGORIES:Music,Winter Events
ATTACH;FMTTYPE=image/jpeg:https://www.angelfireresort.com/wp-content/uploads/2015/07/Ry-Taylor.jpg
GEO:36.3874183;-105.2734077
X-APPLE-STRUCTURED-LOCATION;VALUE=URI;X-ADDRESS=Village Haus 10 Miller Lane Angel Fire 87710;X-APPLE-RADIUS=500;X-TITLE=10 Miller Lane:geo:-105.2734077,36.3874183
END:VEVENT
BEGIN:VEVENT
DTSTART;TZID=America/Denver:20260117T160000
DTEND;TZID=America/Denver:20260117T180000
DTSTAMP:20260424T005522
CREATED:20251208T160943Z
LAST-MODIFIED:20251208T161203Z
UID:10031097-1768665600-1768672800@www.angelfireresort.com
SUMMARY:Live Music @ Village Haus | Jeremiah Glauser
DESCRIPTION:After the slopes\, enjoy an Irish Coffee or cold beer at the Village Haus with the local music of Jeremiah Glauser. Saturdays all Winter.
URL:https://www.angelfireresort.com/event/live-music-village-haus-jeremiah-glauser/2026-01-17/
LOCATION:Village Haus\, 10 Miller Lane\, Angel Fire\, 87710
CATEGORIES:Music,Winter Events
ATTACH;FMTTYPE=image/jpeg:https://www.angelfireresort.com/wp-content/uploads/2025/12/JeremiahGlauser_01-1.jpg
GEO:36.3874183;-105.2734077
X-APPLE-STRUCTURED-LOCATION;VALUE=URI;X-ADDRESS=Village Haus 10 Miller Lane Angel Fire 87710;X-APPLE-RADIUS=500;X-TITLE=10 Miller Lane:geo:-105.2734077,36.3874183
END:VEVENT
BEGIN:VEVENT
DTSTART;TZID=America/Denver:20260116T160000
DTEND;TZID=America/Denver:20260116T180000
DTSTAMP:20260424T005522
CREATED:20251208T161625Z
LAST-MODIFIED:20251208T161656Z
UID:10031112-1768579200-1768586400@www.angelfireresort.com
SUMMARY:Live Music @ Village Haus | Ry Taylor
DESCRIPTION:After the slopes\, enjoy an Irish Coffee or cold beer at the Village Haus with the local music of Ry Taylor. Fridays all Winter.
URL:https://www.angelfireresort.com/event/live-music-village-haus-ry-taylor/2026-01-16/
LOCATION:Village Haus\, 10 Miller Lane\, Angel Fire\, 87710
CATEGORIES:Music,Winter Events
ATTACH;FMTTYPE=image/jpeg:https://www.angelfireresort.com/wp-content/uploads/2015/07/Ry-Taylor.jpg
GEO:36.3874183;-105.2734077
X-APPLE-STRUCTURED-LOCATION;VALUE=URI;X-ADDRESS=Village Haus 10 Miller Lane Angel Fire 87710;X-APPLE-RADIUS=500;X-TITLE=10 Miller Lane:geo:-105.2734077,36.3874183
END:VEVENT
BEGIN:VEVENT
DTSTART;TZID=America/Denver:20260110T160000
DTEND;TZID=America/Denver:20260110T180000
DTSTAMP:20260424T005522
CREATED:20251208T160943Z
LAST-MODIFIED:20251208T161203Z
UID:10031096-1768060800-1768068000@www.angelfireresort.com
SUMMARY:Live Music @ Village Haus | Jeremiah Glauser
DESCRIPTION:After the slopes\, enjoy an Irish Coffee or cold beer at the Village Haus with the local music of Jeremiah Glauser. Saturdays all Winter.
URL:https://www.angelfireresort.com/event/live-music-village-haus-jeremiah-glauser/2026-01-10/
LOCATION:Village Haus\, 10 Miller Lane\, Angel Fire\, 87710
CATEGORIES:Music,Winter Events
ATTACH;FMTTYPE=image/jpeg:https://www.angelfireresort.com/wp-content/uploads/2025/12/JeremiahGlauser_01-1.jpg
GEO:36.3874183;-105.2734077
X-APPLE-STRUCTURED-LOCATION;VALUE=URI;X-ADDRESS=Village Haus 10 Miller Lane Angel Fire 87710;X-APPLE-RADIUS=500;X-TITLE=10 Miller Lane:geo:-105.2734077,36.3874183
END:VEVENT
BEGIN:VEVENT
DTSTART;TZID=America/Denver:20260109T160000
DTEND;TZID=America/Denver:20260109T180000
DTSTAMP:20260424T005522
CREATED:20251208T161625Z
LAST-MODIFIED:20251208T161656Z
UID:10031111-1767974400-1767981600@www.angelfireresort.com
SUMMARY:Live Music @ Village Haus | Ry Taylor
DESCRIPTION:After the slopes\, enjoy an Irish Coffee or cold beer at the Village Haus with the local music of Ry Taylor. Fridays all Winter.
URL:https://www.angelfireresort.com/event/live-music-village-haus-ry-taylor/2026-01-09/
LOCATION:Village Haus\, 10 Miller Lane\, Angel Fire\, 87710
CATEGORIES:Music,Winter Events
ATTACH;FMTTYPE=image/jpeg:https://www.angelfireresort.com/wp-content/uploads/2015/07/Ry-Taylor.jpg
GEO:36.3874183;-105.2734077
X-APPLE-STRUCTURED-LOCATION;VALUE=URI;X-ADDRESS=Village Haus 10 Miller Lane Angel Fire 87710;X-APPLE-RADIUS=500;X-TITLE=10 Miller Lane:geo:-105.2734077,36.3874183
END:VEVENT
BEGIN:VEVENT
DTSTART;TZID=America/Denver:20260103T190000
DTEND;TZID=America/Denver:20260103T200000
DTSTAMP:20260424T005522
CREATED:20251218T165626Z
LAST-MODIFIED:20251218T165749Z
UID:10031131-1767466800-1767470400@www.angelfireresort.com
SUMMARY:Cotton Candy in the Lobby
DESCRIPTION:All our welcome for Cotton Candy in the Hotel Lobby from 7-8 pm.
URL:https://www.angelfireresort.com/event/cotton-candy-in-the-lobby/2026-01-03/
LOCATION:Angel Fire Resort\, 10 Miller Lane\, Angel Fire\, NM\, 87710\, United States
CATEGORIES:Winter Events
ATTACH;FMTTYPE=image/jpeg:https://www.angelfireresort.com/wp-content/uploads/2025/12/Cotton-Candy-in-the-Lobby.jpg
GEO:36.3879902;-105.2740404
X-APPLE-STRUCTURED-LOCATION;VALUE=URI;X-ADDRESS=Angel Fire Resort 10 Miller Lane Angel Fire NM 87710 United States;X-APPLE-RADIUS=500;X-TITLE=10 Miller Lane:geo:-105.2740404,36.3879902
END:VEVENT
BEGIN:VEVENT
DTSTART;TZID=America/Denver:20260103T160000
DTEND;TZID=America/Denver:20260103T180000
DTSTAMP:20260424T005522
CREATED:20251208T160943Z
LAST-MODIFIED:20251208T161203Z
UID:10031095-1767456000-1767463200@www.angelfireresort.com
SUMMARY:Live Music @ Village Haus | Jeremiah Glauser
DESCRIPTION:After the slopes\, enjoy an Irish Coffee or cold beer at the Village Haus with the local music of Jeremiah Glauser. Saturdays all Winter.
URL:https://www.angelfireresort.com/event/live-music-village-haus-jeremiah-glauser/2026-01-03/
LOCATION:Village Haus\, 10 Miller Lane\, Angel Fire\, 87710
CATEGORIES:Music,Winter Events
ATTACH;FMTTYPE=image/jpeg:https://www.angelfireresort.com/wp-content/uploads/2025/12/JeremiahGlauser_01-1.jpg
GEO:36.3874183;-105.2734077
X-APPLE-STRUCTURED-LOCATION;VALUE=URI;X-ADDRESS=Village Haus 10 Miller Lane Angel Fire 87710;X-APPLE-RADIUS=500;X-TITLE=10 Miller Lane:geo:-105.2734077,36.3874183
END:VEVENT
BEGIN:VEVENT
DTSTART;TZID=America/Denver:20260102T190000
DTEND;TZID=America/Denver:20260102T200000
DTSTAMP:20260424T005522
CREATED:20251218T164446Z
LAST-MODIFIED:20251218T164524Z
UID:10031128-1767380400-1767384000@www.angelfireresort.com
SUMMARY:S'mores in Front of the Hotel
DESCRIPTION:All are welcome to join us for S’mores in front of the hotel from 7-8 PM.
URL:https://www.angelfireresort.com/event/smores-in-the-lobby/2026-01-02/
LOCATION:Angel Fire Resort\, 10 Miller Lane\, Angel Fire\, NM\, 87710\, United States
CATEGORIES:Winter Events
ATTACH;FMTTYPE=image/jpeg:https://www.angelfireresort.com/wp-content/uploads/2025/12/P1320116-scaled.jpg
GEO:36.3879902;-105.2740404
X-APPLE-STRUCTURED-LOCATION;VALUE=URI;X-ADDRESS=Angel Fire Resort 10 Miller Lane Angel Fire NM 87710 United States;X-APPLE-RADIUS=500;X-TITLE=10 Miller Lane:geo:-105.2740404,36.3879902
END:VEVENT
BEGIN:VEVENT
DTSTART;TZID=America/Denver:20260102T160000
DTEND;TZID=America/Denver:20260102T180000
DTSTAMP:20260424T005522
CREATED:20251208T161625Z
LAST-MODIFIED:20251208T161656Z
UID:10031110-1767369600-1767376800@www.angelfireresort.com
SUMMARY:Live Music @ Village Haus | Ry Taylor
DESCRIPTION:After the slopes\, enjoy an Irish Coffee or cold beer at the Village Haus with the local music of Ry Taylor. Fridays all Winter.
URL:https://www.angelfireresort.com/event/live-music-village-haus-ry-taylor/2026-01-02/
LOCATION:Village Haus\, 10 Miller Lane\, Angel Fire\, 87710
CATEGORIES:Music,Winter Events
ATTACH;FMTTYPE=image/jpeg:https://www.angelfireresort.com/wp-content/uploads/2015/07/Ry-Taylor.jpg
GEO:36.3874183;-105.2734077
X-APPLE-STRUCTURED-LOCATION;VALUE=URI;X-ADDRESS=Village Haus 10 Miller Lane Angel Fire 87710;X-APPLE-RADIUS=500;X-TITLE=10 Miller Lane:geo:-105.2734077,36.3874183
END:VEVENT
BEGIN:VEVENT
DTSTART;TZID=America/Denver:20260101T190000
DTEND;TZID=America/Denver:20260101T200000
DTSTAMP:20260424T005522
CREATED:20251218T170720Z
LAST-MODIFIED:20251218T170720Z
UID:10031134-1767294000-1767297600@www.angelfireresort.com
SUMMARY:Indoor Snowball Fight
DESCRIPTION:Join us on the second floor of the hotel for a completely safe but super fun INDOOR SNOWBALL FIGHT from 7-8 pm. \n 
URL:https://www.angelfireresort.com/event/indoor-snowball-fight/2026-01-01/
LOCATION:Angel Fire Resort\, 10 Miller Lane\, Angel Fire\, NM\, 87710\, United States
CATEGORIES:Winter Events
ATTACH;FMTTYPE=image/png:https://www.angelfireresort.com/wp-content/uploads/2025/12/Indoor-Snowball-Fight.png
GEO:36.3879902;-105.2740404
X-APPLE-STRUCTURED-LOCATION;VALUE=URI;X-ADDRESS=Angel Fire Resort 10 Miller Lane Angel Fire NM 87710 United States;X-APPLE-RADIUS=500;X-TITLE=10 Miller Lane:geo:-105.2740404,36.3879902
END:VEVENT
BEGIN:VEVENT
DTSTART;TZID=America/Denver:20251231T220000
DTEND;TZID=America/Denver:20251231T230000
DTSTAMP:20260424T005522
CREATED:20251218T211856Z
LAST-MODIFIED:20251218T211856Z
UID:10031140-1767218400-1767222000@www.angelfireresort.com
SUMMARY:New Year's Eve Toast
DESCRIPTION:Join us in the Hotel Lobby at 10 pm as we celebrate another year of being in Angel Fire! Complementary sparkling cider. Champagne for purchase. \n  \nMust be 21 to enjoy alcoholic beverages.
URL:https://www.angelfireresort.com/event/new-years-eve-toast/
LOCATION:Angel Fire Resort\, 10 Miller Lane\, Angel Fire\, NM\, 87710\, United States
CATEGORIES:Winter Events
ATTACH;FMTTYPE=image/png:https://www.angelfireresort.com/wp-content/uploads/2025/12/New-Year-2026.png
GEO:36.3879902;-105.2740404
X-APPLE-STRUCTURED-LOCATION;VALUE=URI;X-ADDRESS=Angel Fire Resort 10 Miller Lane Angel Fire NM 87710 United States;X-APPLE-RADIUS=500;X-TITLE=10 Miller Lane:geo:-105.2740404,36.3879902
END:VEVENT
BEGIN:VEVENT
DTSTART;TZID=America/Denver:20251230T190000
DTEND;TZID=America/Denver:20251230T200000
DTSTAMP:20260424T005522
CREATED:20251218T202538Z
LAST-MODIFIED:20251218T202538Z
UID:10031139-1767121200-1767124800@www.angelfireresort.com
SUMMARY:Candy Bingo
DESCRIPTION:Get ready to play Bingo the Candy Way. Join us in the Hotel Lobby from 7-8 pm.
URL:https://www.angelfireresort.com/event/candy-bingo/
LOCATION:Angel Fire Resort\, 10 Miller Lane\, Angel Fire\, NM\, 87710\, United States
CATEGORIES:Winter Events
ATTACH;FMTTYPE=image/png:https://www.angelfireresort.com/wp-content/uploads/2025/12/CANDY-BINGO-1.png
GEO:36.3879902;-105.2740404
X-APPLE-STRUCTURED-LOCATION;VALUE=URI;X-ADDRESS=Angel Fire Resort 10 Miller Lane Angel Fire NM 87710 United States;X-APPLE-RADIUS=500;X-TITLE=10 Miller Lane:geo:-105.2740404,36.3879902
END:VEVENT
BEGIN:VEVENT
DTSTART;TZID=America/Denver:20251229T190000
DTEND;TZID=America/Denver:20251229T200000
DTSTAMP:20260424T005522
CREATED:20251218T194702Z
LAST-MODIFIED:20251218T194702Z
UID:10031136-1767034800-1767038400@www.angelfireresort.com
SUMMARY:Snow Flake Crafts
DESCRIPTION:Get your crafty groove on in the Hotel Lobby and make your one-of-a-kind Snowflake from 7-8 pm.
URL:https://www.angelfireresort.com/event/snow-flake-crafts/2025-12-29/
LOCATION:Angel Fire Resort\, 10 Miller Lane\, Angel Fire\, NM\, 87710\, United States
CATEGORIES:Winter Events
ATTACH;FMTTYPE=image/png:https://www.angelfireresort.com/wp-content/uploads/2025/12/Snowflake-Crafts-1.png
GEO:36.3879902;-105.2740404
X-APPLE-STRUCTURED-LOCATION;VALUE=URI;X-ADDRESS=Angel Fire Resort 10 Miller Lane Angel Fire NM 87710 United States;X-APPLE-RADIUS=500;X-TITLE=10 Miller Lane:geo:-105.2740404,36.3879902
END:VEVENT
BEGIN:VEVENT
DTSTART;TZID=America/Denver:20251228T190000
DTEND;TZID=America/Denver:20251228T200000
DTSTAMP:20260424T005522
CREATED:20251218T170720Z
LAST-MODIFIED:20251218T170720Z
UID:10031133-1766948400-1766952000@www.angelfireresort.com
SUMMARY:Indoor Snowball Fight
DESCRIPTION:Join us on the second floor of the hotel for a completely safe but super fun INDOOR SNOWBALL FIGHT from 7-8 pm. \n 
URL:https://www.angelfireresort.com/event/indoor-snowball-fight/2025-12-28/
LOCATION:Angel Fire Resort\, 10 Miller Lane\, Angel Fire\, NM\, 87710\, United States
CATEGORIES:Winter Events
ATTACH;FMTTYPE=image/png:https://www.angelfireresort.com/wp-content/uploads/2025/12/Indoor-Snowball-Fight.png
GEO:36.3879902;-105.2740404
X-APPLE-STRUCTURED-LOCATION;VALUE=URI;X-ADDRESS=Angel Fire Resort 10 Miller Lane Angel Fire NM 87710 United States;X-APPLE-RADIUS=500;X-TITLE=10 Miller Lane:geo:-105.2740404,36.3879902
END:VEVENT
BEGIN:VEVENT
DTSTART;TZID=America/Denver:20251228T140000
DTEND;TZID=America/Denver:20251228T160000
DTSTAMP:20260424T005522
CREATED:20251227T170147Z
LAST-MODIFIED:20251227T170147Z
UID:10031169-1766930400-1766937600@www.angelfireresort.com
SUMMARY:Live Music @ Village Haus | Raven Hills
DESCRIPTION:After the slopes\, come grab a cold beer or a hot Irish Coffee at the Village Haus with local live music from Nancy Hills and Chris Donohoe. From 2-4 Sunday.
URL:https://www.angelfireresort.com/event/live-music-village-haus-raven-hills/
LOCATION:Village Haus\, 10 Miller Lane\, Angel Fire\, 87710
CATEGORIES:Winter Events
ATTACH;FMTTYPE=image/png:https://www.angelfireresort.com/wp-content/uploads/2025/12/Nancy-Hills-Raven-Hills.png
GEO:36.3874183;-105.2734077
X-APPLE-STRUCTURED-LOCATION;VALUE=URI;X-ADDRESS=Village Haus 10 Miller Lane Angel Fire 87710;X-APPLE-RADIUS=500;X-TITLE=10 Miller Lane:geo:-105.2734077,36.3874183
END:VEVENT
BEGIN:VEVENT
DTSTART;TZID=America/Denver:20251227T190000
DTEND;TZID=America/Denver:20251227T200000
DTSTAMP:20260424T005522
CREATED:20251218T165626Z
LAST-MODIFIED:20251218T165749Z
UID:10031130-1766862000-1766865600@www.angelfireresort.com
SUMMARY:Cotton Candy in the Lobby
DESCRIPTION:All our welcome for Cotton Candy in the Hotel Lobby from 7-8 pm.
URL:https://www.angelfireresort.com/event/cotton-candy-in-the-lobby/2025-12-27/
LOCATION:Angel Fire Resort\, 10 Miller Lane\, Angel Fire\, NM\, 87710\, United States
CATEGORIES:Winter Events
ATTACH;FMTTYPE=image/jpeg:https://www.angelfireresort.com/wp-content/uploads/2025/12/Cotton-Candy-in-the-Lobby.jpg
GEO:36.3879902;-105.2740404
X-APPLE-STRUCTURED-LOCATION;VALUE=URI;X-ADDRESS=Angel Fire Resort 10 Miller Lane Angel Fire NM 87710 United States;X-APPLE-RADIUS=500;X-TITLE=10 Miller Lane:geo:-105.2740404,36.3879902
END:VEVENT
BEGIN:VEVENT
DTSTART;TZID=America/Denver:20251227T160000
DTEND;TZID=America/Denver:20251227T180000
DTSTAMP:20260424T005522
CREATED:20251208T160943Z
LAST-MODIFIED:20251208T161203Z
UID:10031094-1766851200-1766858400@www.angelfireresort.com
SUMMARY:Live Music @ Village Haus | Jeremiah Glauser
DESCRIPTION:After the slopes\, enjoy an Irish Coffee or cold beer at the Village Haus with the local music of Jeremiah Glauser. Saturdays all Winter.
URL:https://www.angelfireresort.com/event/live-music-village-haus-jeremiah-glauser/2025-12-27/
LOCATION:Village Haus\, 10 Miller Lane\, Angel Fire\, 87710
CATEGORIES:Music,Winter Events
ATTACH;FMTTYPE=image/jpeg:https://www.angelfireresort.com/wp-content/uploads/2025/12/JeremiahGlauser_01-1.jpg
GEO:36.3874183;-105.2734077
X-APPLE-STRUCTURED-LOCATION;VALUE=URI;X-ADDRESS=Village Haus 10 Miller Lane Angel Fire 87710;X-APPLE-RADIUS=500;X-TITLE=10 Miller Lane:geo:-105.2734077,36.3874183
END:VEVENT
BEGIN:VEVENT
DTSTART;TZID=America/Denver:20251226T190000
DTEND;TZID=America/Denver:20251226T200000
DTSTAMP:20260424T005522
CREATED:20251218T164446Z
LAST-MODIFIED:20251218T164524Z
UID:10031127-1766775600-1766779200@www.angelfireresort.com
SUMMARY:S'mores in Front of the Hotel
DESCRIPTION:All are welcome to join us for S’mores in front of the hotel from 7-8 PM.
URL:https://www.angelfireresort.com/event/smores-in-the-lobby/2025-12-26/
LOCATION:Angel Fire Resort\, 10 Miller Lane\, Angel Fire\, NM\, 87710\, United States
CATEGORIES:Winter Events
ATTACH;FMTTYPE=image/jpeg:https://www.angelfireresort.com/wp-content/uploads/2025/12/P1320116-scaled.jpg
GEO:36.3879902;-105.2740404
X-APPLE-STRUCTURED-LOCATION;VALUE=URI;X-ADDRESS=Angel Fire Resort 10 Miller Lane Angel Fire NM 87710 United States;X-APPLE-RADIUS=500;X-TITLE=10 Miller Lane:geo:-105.2740404,36.3879902
END:VEVENT
BEGIN:VEVENT
DTSTART;TZID=America/Denver:20251226T160000
DTEND;TZID=America/Denver:20251226T180000
DTSTAMP:20260424T005522
CREATED:20251208T161625Z
LAST-MODIFIED:20251208T161656Z
UID:10031109-1766764800-1766772000@www.angelfireresort.com
SUMMARY:Live Music @ Village Haus | Ry Taylor
DESCRIPTION:After the slopes\, enjoy an Irish Coffee or cold beer at the Village Haus with the local music of Ry Taylor. Fridays all Winter.
URL:https://www.angelfireresort.com/event/live-music-village-haus-ry-taylor/2025-12-26/
LOCATION:Village Haus\, 10 Miller Lane\, Angel Fire\, 87710
CATEGORIES:Music,Winter Events
ATTACH;FMTTYPE=image/jpeg:https://www.angelfireresort.com/wp-content/uploads/2015/07/Ry-Taylor.jpg
GEO:36.3874183;-105.2734077
X-APPLE-STRUCTURED-LOCATION;VALUE=URI;X-ADDRESS=Village Haus 10 Miller Lane Angel Fire 87710;X-APPLE-RADIUS=500;X-TITLE=10 Miller Lane:geo:-105.2734077,36.3874183
END:VEVENT
BEGIN:VEVENT
DTSTART;TZID=America/Denver:20251225T190000
DTEND;TZID=America/Denver:20251225T204000
DTSTAMP:20260424T005522
CREATED:20251218T200737Z
LAST-MODIFIED:20251218T200737Z
UID:10031138-1766689200-1766695200@www.angelfireresort.com
SUMMARY:Christmas Movie Time - The Polar Express
DESCRIPTION:Get your PJs and cozy blanket ready for a special Holiday screening of The Polar Express. The movie starts at 7pm in Chiantis on the hotel’s second floor.
URL:https://www.angelfireresort.com/event/christmas-movie-time-the-polar-express/
LOCATION:Chianti’s\, 10 Miller Lane\, Angel Fire\, 87710
CATEGORIES:Winter Events
ATTACH;FMTTYPE=image/png:https://www.angelfireresort.com/wp-content/uploads/2025/12/Polar-Expess.png
GEO:36.3874183;-105.2734077
X-APPLE-STRUCTURED-LOCATION;VALUE=URI;X-ADDRESS=Chianti’s 10 Miller Lane Angel Fire 87710;X-APPLE-RADIUS=500;X-TITLE=10 Miller Lane:geo:-105.2734077,36.3874183
END:VEVENT
BEGIN:VEVENT
DTSTART;TZID=America/Denver:20251224T190000
DTEND;TZID=America/Denver:20251224T200000
DTSTAMP:20260424T005522
CREATED:20251217T145639Z
LAST-MODIFIED:20251218T195737Z
UID:10031124-1766602800-1766606400@www.angelfireresort.com
SUMMARY:Visit from Santa
DESCRIPTION:Stop by the Angel Fire Resort Lodge Lobby to visit with Santa Claus from 7-8pm on Christmas Eve! Make sure to get comfy when he reads The Night Before Christmas at 8:30pm. \n 
URL:https://www.angelfireresort.com/event/visit-from-santa/
LOCATION:Angel Fire Resort\, 10 Miller Lane\, Angel Fire\, NM\, 87710\, United States
CATEGORIES:Winter Events
ATTACH;FMTTYPE=image/jpeg:https://www.angelfireresort.com/wp-content/uploads/2019/11/santa.jpeg
GEO:36.3879902;-105.2740404
X-APPLE-STRUCTURED-LOCATION;VALUE=URI;X-ADDRESS=Angel Fire Resort 10 Miller Lane Angel Fire NM 87710 United States;X-APPLE-RADIUS=500;X-TITLE=10 Miller Lane:geo:-105.2740404,36.3879902
END:VEVENT
BEGIN:VEVENT
DTSTART;TZID=America/Denver:20251223T190000
DTEND;TZID=America/Denver:20251223T200000
DTSTAMP:20260424T005522
CREATED:20251218T195337Z
LAST-MODIFIED:20251218T195337Z
UID:10031137-1766516400-1766520000@www.angelfireresort.com
SUMMARY:Stocking Decorating in Hotel Lobby
DESCRIPTION:Decorate your very own stocking in the Hotel Lobby from 7-8 PM.
URL:https://www.angelfireresort.com/event/stocking-decorating-in-hotel-lobby/
LOCATION:Angel Fire Resort\, 10 Miller Lane\, Angel Fire\, NM\, 87710\, United States
CATEGORIES:Winter Events
ATTACH;FMTTYPE=image/png:https://www.angelfireresort.com/wp-content/uploads/2025/12/Holiday-Stocking-Decorating.png
GEO:36.3879902;-105.2740404
X-APPLE-STRUCTURED-LOCATION;VALUE=URI;X-ADDRESS=Angel Fire Resort 10 Miller Lane Angel Fire NM 87710 United States;X-APPLE-RADIUS=500;X-TITLE=10 Miller Lane:geo:-105.2740404,36.3879902
END:VEVENT
BEGIN:VEVENT
DTSTART;TZID=America/Denver:20251222T190000
DTEND;TZID=America/Denver:20251222T200000
DTSTAMP:20260424T005522
CREATED:20251218T194702Z
LAST-MODIFIED:20251218T194702Z
UID:10031135-1766430000-1766433600@www.angelfireresort.com
SUMMARY:Snow Flake Crafts
DESCRIPTION:Get your crafty groove on in the Hotel Lobby and make your one-of-a-kind Snowflake from 7-8 pm.
URL:https://www.angelfireresort.com/event/snow-flake-crafts/2025-12-22/
LOCATION:Angel Fire Resort\, 10 Miller Lane\, Angel Fire\, NM\, 87710\, United States
CATEGORIES:Winter Events
ATTACH;FMTTYPE=image/png:https://www.angelfireresort.com/wp-content/uploads/2025/12/Snowflake-Crafts-1.png
GEO:36.3879902;-105.2740404
X-APPLE-STRUCTURED-LOCATION;VALUE=URI;X-ADDRESS=Angel Fire Resort 10 Miller Lane Angel Fire NM 87710 United States;X-APPLE-RADIUS=500;X-TITLE=10 Miller Lane:geo:-105.2740404,36.3879902
END:VEVENT
BEGIN:VEVENT
DTSTART;TZID=America/Denver:20251221T190000
DTEND;TZID=America/Denver:20251221T200000
DTSTAMP:20260424T005522
CREATED:20251218T170720Z
LAST-MODIFIED:20251218T170720Z
UID:10031132-1766343600-1766347200@www.angelfireresort.com
SUMMARY:Indoor Snowball Fight
DESCRIPTION:Join us on the second floor of the hotel for a completely safe but super fun INDOOR SNOWBALL FIGHT from 7-8 pm. \n 
URL:https://www.angelfireresort.com/event/indoor-snowball-fight/2025-12-21/
LOCATION:Angel Fire Resort\, 10 Miller Lane\, Angel Fire\, NM\, 87710\, United States
CATEGORIES:Winter Events
ATTACH;FMTTYPE=image/png:https://www.angelfireresort.com/wp-content/uploads/2025/12/Indoor-Snowball-Fight.png
GEO:36.3879902;-105.2740404
X-APPLE-STRUCTURED-LOCATION;VALUE=URI;X-ADDRESS=Angel Fire Resort 10 Miller Lane Angel Fire NM 87710 United States;X-APPLE-RADIUS=500;X-TITLE=10 Miller Lane:geo:-105.2740404,36.3879902
END:VEVENT
BEGIN:VEVENT
DTSTART;TZID=America/Denver:20251220T190000
DTEND;TZID=America/Denver:20251220T200000
DTSTAMP:20260424T005522
CREATED:20251218T165626Z
LAST-MODIFIED:20251218T165749Z
UID:10031129-1766257200-1766260800@www.angelfireresort.com
SUMMARY:Cotton Candy in the Lobby
DESCRIPTION:All our welcome for Cotton Candy in the Hotel Lobby from 7-8 pm.
URL:https://www.angelfireresort.com/event/cotton-candy-in-the-lobby/2025-12-20/
LOCATION:Angel Fire Resort\, 10 Miller Lane\, Angel Fire\, NM\, 87710\, United States
CATEGORIES:Winter Events
ATTACH;FMTTYPE=image/jpeg:https://www.angelfireresort.com/wp-content/uploads/2025/12/Cotton-Candy-in-the-Lobby.jpg
GEO:36.3879902;-105.2740404
X-APPLE-STRUCTURED-LOCATION;VALUE=URI;X-ADDRESS=Angel Fire Resort 10 Miller Lane Angel Fire NM 87710 United States;X-APPLE-RADIUS=500;X-TITLE=10 Miller Lane:geo:-105.2740404,36.3879902
END:VEVENT
BEGIN:VEVENT
DTSTART;TZID=America/Denver:20251220T160000
DTEND;TZID=America/Denver:20251220T180000
DTSTAMP:20260424T005522
CREATED:20251208T160943Z
LAST-MODIFIED:20251208T161203Z
UID:10031093-1766246400-1766253600@www.angelfireresort.com
SUMMARY:Live Music @ Village Haus | Jeremiah Glauser
DESCRIPTION:After the slopes\, enjoy an Irish Coffee or cold beer at the Village Haus with the local music of Jeremiah Glauser. Saturdays all Winter.
URL:https://www.angelfireresort.com/event/live-music-village-haus-jeremiah-glauser/2025-12-20/
LOCATION:Village Haus\, 10 Miller Lane\, Angel Fire\, 87710
CATEGORIES:Music,Winter Events
ATTACH;FMTTYPE=image/jpeg:https://www.angelfireresort.com/wp-content/uploads/2025/12/JeremiahGlauser_01-1.jpg
GEO:36.3874183;-105.2734077
X-APPLE-STRUCTURED-LOCATION;VALUE=URI;X-ADDRESS=Village Haus 10 Miller Lane Angel Fire 87710;X-APPLE-RADIUS=500;X-TITLE=10 Miller Lane:geo:-105.2734077,36.3874183
END:VEVENT
BEGIN:VEVENT
DTSTART;TZID=America/Denver:20251219T190000
DTEND;TZID=America/Denver:20251219T200000
DTSTAMP:20260424T005522
CREATED:20251218T164446Z
LAST-MODIFIED:20251218T164524Z
UID:10031126-1766170800-1766174400@www.angelfireresort.com
SUMMARY:S'mores in Front of the Hotel
DESCRIPTION:All are welcome to join us for S’mores in front of the hotel from 7-8 PM.
URL:https://www.angelfireresort.com/event/smores-in-the-lobby/2025-12-19/
LOCATION:Angel Fire Resort\, 10 Miller Lane\, Angel Fire\, NM\, 87710\, United States
CATEGORIES:Winter Events
ATTACH;FMTTYPE=image/jpeg:https://www.angelfireresort.com/wp-content/uploads/2025/12/P1320116-scaled.jpg
GEO:36.3879902;-105.2740404
X-APPLE-STRUCTURED-LOCATION;VALUE=URI;X-ADDRESS=Angel Fire Resort 10 Miller Lane Angel Fire NM 87710 United States;X-APPLE-RADIUS=500;X-TITLE=10 Miller Lane:geo:-105.2740404,36.3879902
END:VEVENT
BEGIN:VEVENT
DTSTART;TZID=America/Denver:20251219T160000
DTEND;TZID=America/Denver:20251219T180000
DTSTAMP:20260424T005522
CREATED:20251208T161625Z
LAST-MODIFIED:20251208T161656Z
UID:10031108-1766160000-1766167200@www.angelfireresort.com
SUMMARY:Live Music @ Village Haus | Ry Taylor
DESCRIPTION:After the slopes\, enjoy an Irish Coffee or cold beer at the Village Haus with the local music of Ry Taylor. Fridays all Winter.
URL:https://www.angelfireresort.com/event/live-music-village-haus-ry-taylor/2025-12-19/
LOCATION:Village Haus\, 10 Miller Lane\, Angel Fire\, 87710
CATEGORIES:Music,Winter Events
ATTACH;FMTTYPE=image/jpeg:https://www.angelfireresort.com/wp-content/uploads/2015/07/Ry-Taylor.jpg
GEO:36.3874183;-105.2734077
X-APPLE-STRUCTURED-LOCATION;VALUE=URI;X-ADDRESS=Village Haus 10 Miller Lane Angel Fire 87710;X-APPLE-RADIUS=500;X-TITLE=10 Miller Lane:geo:-105.2734077,36.3874183
END:VEVENT
BEGIN:VEVENT
DTSTART;TZID=America/Denver:20251213T160000
DTEND;TZID=America/Denver:20251213T180000
DTSTAMP:20260424T005522
CREATED:20251208T160943Z
LAST-MODIFIED:20251208T161203Z
UID:10031092-1765641600-1765648800@www.angelfireresort.com
SUMMARY:Live Music @ Village Haus | Jeremiah Glauser
DESCRIPTION:After the slopes\, enjoy an Irish Coffee or cold beer at the Village Haus with the local music of Jeremiah Glauser. Saturdays all Winter.
URL:https://www.angelfireresort.com/event/live-music-village-haus-jeremiah-glauser/2025-12-13/
LOCATION:Village Haus\, 10 Miller Lane\, Angel Fire\, 87710
CATEGORIES:Music,Winter Events
ATTACH;FMTTYPE=image/jpeg:https://www.angelfireresort.com/wp-content/uploads/2025/12/JeremiahGlauser_01-1.jpg
GEO:36.3874183;-105.2734077
X-APPLE-STRUCTURED-LOCATION;VALUE=URI;X-ADDRESS=Village Haus 10 Miller Lane Angel Fire 87710;X-APPLE-RADIUS=500;X-TITLE=10 Miller Lane:geo:-105.2734077,36.3874183
END:VEVENT
BEGIN:VEVENT
DTSTART;TZID=America/Denver:20251212T160000
DTEND;TZID=America/Denver:20251212T180000
DTSTAMP:20260424T005522
CREATED:20251208T161625Z
LAST-MODIFIED:20251208T161656Z
UID:10031107-1765555200-1765562400@www.angelfireresort.com
SUMMARY:Live Music @ Village Haus | Ry Taylor
DESCRIPTION:After the slopes\, enjoy an Irish Coffee or cold beer at the Village Haus with the local music of Ry Taylor. Fridays all Winter.
URL:https://www.angelfireresort.com/event/live-music-village-haus-ry-taylor/2025-12-12/
LOCATION:Village Haus\, 10 Miller Lane\, Angel Fire\, 87710
CATEGORIES:Music,Winter Events
ATTACH;FMTTYPE=image/jpeg:https://www.angelfireresort.com/wp-content/uploads/2015/07/Ry-Taylor.jpg
GEO:36.3874183;-105.2734077
X-APPLE-STRUCTURED-LOCATION;VALUE=URI;X-ADDRESS=Village Haus 10 Miller Lane Angel Fire 87710;X-APPLE-RADIUS=500;X-TITLE=10 Miller Lane:geo:-105.2734077,36.3874183
END:VEVENT
END:VCALENDAR