BEGIN:VCALENDAR
VERSION:2.0
PRODID:-//Angel Fire Resort - ECPv6.15.20//NONSGML v1.0//EN
CALSCALE:GREGORIAN
METHOD:PUBLISH
X-ORIGINAL-URL:https://www.angelfireresort.com
X-WR-CALDESC:Events for Angel Fire Resort
REFRESH-INTERVAL;VALUE=DURATION:PT1H
X-Robots-Tag:noindex
X-PUBLISHED-TTL:PT1H
BEGIN:VTIMEZONE
TZID:America/Denver
BEGIN:DAYLIGHT
TZOFFSETFROM:-0700
TZOFFSETTO:-0600
TZNAME:MDT
DTSTART:20230312T090000
END:DAYLIGHT
BEGIN:STANDARD
TZOFFSETFROM:-0600
TZOFFSETTO:-0700
TZNAME:MST
DTSTART:20231105T080000
END:STANDARD
BEGIN:DAYLIGHT
TZOFFSETFROM:-0700
TZOFFSETTO:-0600
TZNAME:MDT
DTSTART:20240310T090000
END:DAYLIGHT
BEGIN:STANDARD
TZOFFSETFROM:-0600
TZOFFSETTO:-0700
TZNAME:MST
DTSTART:20241103T080000
END:STANDARD
BEGIN:DAYLIGHT
TZOFFSETFROM:-0700
TZOFFSETTO:-0600
TZNAME:MDT
DTSTART:20250309T090000
END:DAYLIGHT
BEGIN:STANDARD
TZOFFSETFROM:-0600
TZOFFSETTO:-0700
TZNAME:MST
DTSTART:20251102T080000
END:STANDARD
BEGIN:DAYLIGHT
TZOFFSETFROM:-0700
TZOFFSETTO:-0600
TZNAME:MDT
DTSTART:20260308T090000
END:DAYLIGHT
BEGIN:STANDARD
TZOFFSETFROM:-0600
TZOFFSETTO:-0700
TZNAME:MST
DTSTART:20261101T080000
END:STANDARD
BEGIN:DAYLIGHT
TZOFFSETFROM:-0700
TZOFFSETTO:-0600
TZNAME:MDT
DTSTART:20270314T090000
END:DAYLIGHT
BEGIN:STANDARD
TZOFFSETFROM:-0600
TZOFFSETTO:-0700
TZNAME:MST
DTSTART:20271107T080000
END:STANDARD
END:VTIMEZONE
BEGIN:VEVENT
DTSTART;TZID=America/Denver:20260314T100000
DTEND;TZID=America/Denver:20260314T110000
DTSTAMP:20260421T025940
CREATED:20260310T222932Z
LAST-MODIFIED:20260310T222932Z
UID:10031238-1773482400-1773486000@www.angelfireresort.com
SUMMARY:Book Signing with Author Hawk Ferenczy
DESCRIPTION:Join us this Saturday from 10 to 11 a.m. in the Lift Café for a special book signing with Hawk Ferenczy\, Angel Fire Resort’s Ski Patrol Director. Meet Hawk\, hear about his story\, and pick up a copy of his book. Books will be available for purchase at the event. Stop by\, say hello\, and get your copy signed.
URL:https://www.angelfireresort.com/event/book-signing-with-author-hawk-ferenczy/
LOCATION:Lift Cafe Coffee Shop\, 10 Miller Lane\, Angel Fire\, NM\, 87710\, United States
ATTACH;FMTTYPE=image/png:https://www.angelfireresort.com/wp-content/uploads/2026/03/meethawk2026.png
GEO:36.387674;-105.2732813
X-APPLE-STRUCTURED-LOCATION;VALUE=URI;X-ADDRESS=Lift Cafe Coffee Shop 10 Miller Lane Angel Fire NM 87710 United States;X-APPLE-RADIUS=500;X-TITLE=10 Miller Lane:geo:-105.2732813,36.387674
END:VEVENT
BEGIN:VEVENT
DTSTART;TZID=America/Denver:20250126T080000
DTEND;TZID=America/Denver:20250126T100000
DTSTAMP:20260421T025940
CREATED:20241107T164854Z
LAST-MODIFIED:20241120T164507Z
UID:10028058-1737878400-1737885600@www.angelfireresort.com
SUMMARY:Member Coffee & Pastries
DESCRIPTION:Wrap up an unforgettable Member Weekend by stopping by The Lift Cafe on Sunday\, January 26th\, between 8 AM and 10 AM to grab a freshly brewed coffee and a delicious pastry before you head up the mountain—our treat! It’s our way of saying thank you for an amazing weekend. Don’t miss this sweet send-off with fellow Members! \n*This event is for Members in good standing  \n*Please bring your Member ID 
URL:https://www.angelfireresort.com/event/member-coffee-pastries-2/
LOCATION:Lift Cafe Coffee Shop\, 10 Miller Lane\, Angel Fire\, NM\, 87710\, United States
CATEGORIES:Membership
ATTACH;FMTTYPE=image/png:https://www.angelfireresort.com/wp-content/uploads/2024/11/AFR_MW_coffee-pastries_em1.png
ORGANIZER;CN="Angel Fire Resort Membership":MAILTO:membership@angelfireresort.com
GEO:36.387674;-105.2732813
X-APPLE-STRUCTURED-LOCATION;VALUE=URI;X-ADDRESS=Lift Cafe Coffee Shop 10 Miller Lane Angel Fire NM 87710 United States;X-APPLE-RADIUS=500;X-TITLE=10 Miller Lane:geo:-105.2732813,36.387674
END:VEVENT
BEGIN:VEVENT
DTSTART;TZID=America/Denver:20240902T080000
DTEND;TZID=America/Denver:20240902T090000
DTSTAMP:20260421T025940
CREATED:20240502T214906Z
LAST-MODIFIED:20240805T213529Z
UID:10027911-1725264000-1725267600@www.angelfireresort.com
SUMMARY:Members Coffee & Pastries
DESCRIPTION:Members\, let us make your morning a little brighter! Stop by Lift Café on the first Monday of every month this summer between 8 AM and 9 AM for a complimentary coffee and pastry (while supplies last). All you have to do is show your Member ID.\n\n\nThis event is open to all members in good standing.
URL:https://www.angelfireresort.com/event/members-coffee-pastries/2024-09-02/
LOCATION:Lift Cafe Coffee Shop\, 10 Miller Lane\, Angel Fire\, NM\, 87710\, United States
CATEGORIES:Membership
ATTACH;FMTTYPE=image/jpeg:https://www.angelfireresort.com/wp-content/uploads/2024/05/MCP2024.jpg
GEO:36.387674;-105.2732813
X-APPLE-STRUCTURED-LOCATION;VALUE=URI;X-ADDRESS=Lift Cafe Coffee Shop 10 Miller Lane Angel Fire NM 87710 United States;X-APPLE-RADIUS=500;X-TITLE=10 Miller Lane:geo:-105.2732813,36.387674
END:VEVENT
BEGIN:VEVENT
DTSTART;TZID=America/Denver:20240603T080000
DTEND;TZID=America/Denver:20240603T090000
DTSTAMP:20260421T025940
CREATED:20240502T214906Z
LAST-MODIFIED:20240805T213529Z
UID:10025443-1717401600-1717405200@www.angelfireresort.com
SUMMARY:Members Coffee & Pastries
DESCRIPTION:Members\, let us make your morning a little brighter! Stop by Lift Café on the first Monday of every month this summer between 8 AM and 9 AM for a complimentary coffee and pastry (while supplies last). All you have to do is show your Member ID.\n\n\nThis event is open to all members in good standing.
URL:https://www.angelfireresort.com/event/members-coffee-pastries/2024-06-03/
LOCATION:Lift Cafe Coffee Shop\, 10 Miller Lane\, Angel Fire\, NM\, 87710\, United States
CATEGORIES:Membership
ATTACH;FMTTYPE=image/jpeg:https://www.angelfireresort.com/wp-content/uploads/2024/05/MCP2024.jpg
GEO:36.387674;-105.2732813
X-APPLE-STRUCTURED-LOCATION;VALUE=URI;X-ADDRESS=Lift Cafe Coffee Shop 10 Miller Lane Angel Fire NM 87710 United States;X-APPLE-RADIUS=500;X-TITLE=10 Miller Lane:geo:-105.2732813,36.387674
END:VEVENT
END:VCALENDAR